BEGIN:VCALENDAR
VERSION:2.0
PRODID:-//Decatur Public Library - ECPv6.15.17.1//NONSGML v1.0//EN
CALSCALE:GREGORIAN
METHOD:PUBLISH
X-WR-CALNAME:Decatur Public Library
X-ORIGINAL-URL:https://mydpl.org
X-WR-CALDESC:Events for Decatur Public Library
REFRESH-INTERVAL;VALUE=DURATION:PT1H
X-Robots-Tag:noindex
X-PUBLISHED-TTL:PT1H
BEGIN:VTIMEZONE
TZID:America/Chicago
BEGIN:DAYLIGHT
TZOFFSETFROM:-0600
TZOFFSETTO:-0500
TZNAME:CDT
DTSTART:20240310T080000
END:DAYLIGHT
BEGIN:STANDARD
TZOFFSETFROM:-0500
TZOFFSETTO:-0600
TZNAME:CST
DTSTART:20241103T070000
END:STANDARD
BEGIN:DAYLIGHT
TZOFFSETFROM:-0600
TZOFFSETTO:-0500
TZNAME:CDT
DTSTART:20250309T080000
END:DAYLIGHT
BEGIN:STANDARD
TZOFFSETFROM:-0500
TZOFFSETTO:-0600
TZNAME:CST
DTSTART:20251102T070000
END:STANDARD
BEGIN:DAYLIGHT
TZOFFSETFROM:-0600
TZOFFSETTO:-0500
TZNAME:CDT
DTSTART:20260308T080000
END:DAYLIGHT
BEGIN:STANDARD
TZOFFSETFROM:-0500
TZOFFSETTO:-0600
TZNAME:CST
DTSTART:20261101T070000
END:STANDARD
END:VTIMEZONE
BEGIN:VEVENT
DTSTART;TZID=America/Chicago:20251202T163000
DTEND;TZID=America/Chicago:20251202T183000
DTSTAMP:20260421T195056
CREATED:20251107T192048Z
LAST-MODIFIED:20251107T192048Z
UID:10001453-1764693000-1764700200@mydpl.org
SUMMARY:DPL OUTREACH: Cocoa in MoCo
DESCRIPTION:FREE EVENT\nJoin us for a heartwarming holiday event\, Cocoa in MoCo! \nCelebrate the season with festive activities for all ages\, including:\n– Holiday Cookies & Hot Cocoa to enjoy\n– Ornament Making & Christmas Crafts for the kids\n– Letters to Santa to send off your wish list\n– Photos with Santa ($5 Donation) All donations go to providing Christmas for a Hospitality Front Line Worker in need this Season. \nPlease register to insure we have enough cocoa and crafts for everyone!\nAfter all the fun\, gather ’round as Santa Claus reads the beloved children’s book\, Good Night Decatur\, at 5:30 PM. It’s the perfect way to create lasting holiday memories with your family and spread some Christmas cheer! \nDate: December 2nd\, 2025\nTime: 4:30 – 6:30 PM\nLocation: 350 Market St. Decatur Alabama 35802\nPhotos with Santa: 4:30pm-5:30pm; 5:45pm- 6:30pm\nSanta’s Storytime: 5:30-5:45pm \nRegister: https://docs.google.com/forms/d/e/1FAIpQLScNp6ISWoDl7qReRibWWKRcjGjTdTLcyPeJ4uzzOqhEBBz1vA/viewform?usp=sharing&ouid=104456905706261274631 \n  \n 
URL:https://mydpl.org/event/dpl-outreach-cocoa-in-moco/
LOCATION:Tourism\, 350 Market St.\, Decatur\, Alabama\, 35802
CATEGORIES:Adults,Babies & their caregivers,Children,Family Programming,Tweens & Teens (ages 11-17)
ATTACH;FMTTYPE=image/png:https://mydpl.org/wp-content/uploads/2025/11/OUTREACH-Cocoa-in-MoCo-2DEC.png
END:VEVENT
BEGIN:VEVENT
DTSTART;TZID=America/Chicago:20251202T103000
DTEND;TZID=America/Chicago:20251202T110000
DTSTAMP:20260421T195056
CREATED:20251121T215247Z
LAST-MODIFIED:20251121T215247Z
UID:10001455-1764671400-1764673200@mydpl.org
SUMMARY:Story Time: Santa
DESCRIPTION:Story Time is designed for preschool children.  We say poems and read stories.  All are welcome!
URL:https://mydpl.org/event/story-time-santa/
LOCATION:Decatur Public Library Youth Services Room\, 504 Cherry St. NE\, Decatur
CATEGORIES:Babies & their caregivers,Children
ATTACH;FMTTYPE=image/png:https://mydpl.org/wp-content/uploads/2025/11/YS-Story-Time-2DEC.png
END:VEVENT
BEGIN:VEVENT
DTSTART;VALUE=DATE:20251127
DTEND;VALUE=DATE:20251129
DTSTAMP:20260421T195056
CREATED:20250102T175447Z
LAST-MODIFIED:20250102T175845Z
UID:10000812-1764201600-1764374399@mydpl.org
SUMMARY:DPL CLOSED
DESCRIPTION:DPL is closed for the Thanksgiving holiday.  We will reopen on Saturday\, November 29th\, at 10am.
URL:https://mydpl.org/event/dpl-closed-8/
CATEGORIES:DPL CLOSED
ATTACH;FMTTYPE=image/png:https://mydpl.org/wp-content/uploads/2025/01/CLOSED-Thanksgiving.png
END:VEVENT
BEGIN:VEVENT
DTSTART;TZID=America/Chicago:20251126T103000
DTEND;TZID=America/Chicago:20251126T110000
DTSTAMP:20260421T195056
CREATED:20251022T170942Z
LAST-MODIFIED:20251022T170942Z
UID:10001445-1764153000-1764154800@mydpl.org
SUMMARY:Family Story Time: Turkey
DESCRIPTION:When we have a week shortened by a holiday\, we combine our Story Time and Book Babies programs into one Family Story Time!  All ages are welcome for stories\, songs and fun\, all surrounding a theme.
URL:https://mydpl.org/event/family-story-time-turkey/
LOCATION:DPL Youth Services room\, 504 Cherry Street Northeast\, Decatur\, AL\, 35601-1970\, United States
CATEGORIES:Babies & their caregivers,Children,Family Programming,Tweens & Teens (ages 11-17)
ATTACH;FMTTYPE=image/png:https://mydpl.org/wp-content/uploads/2025/10/YS-Family-Story-Time-26NOV.png
END:VEVENT
BEGIN:VEVENT
DTSTART;TZID=America/Chicago:20251125T110000
DTEND;TZID=America/Chicago:20251125T113000
DTSTAMP:20260421T195056
CREATED:20251022T171940Z
LAST-MODIFIED:20251022T171940Z
UID:10001449-1764068400-1764070200@mydpl.org
SUMMARY:Special Guest Story Time: Dino Safari!
DESCRIPTION:Come and close out DINOvember with some fun dinosaur  stories and a coloring sheet. Dress for a safari or wear your dino gear (optional\, of course)! \nOur Dino Safari Guide will appear courtesy of Magical Memories AL.
URL:https://mydpl.org/event/special-guest-story-time-dino-safari/
LOCATION:DPL Youth Services room\, 504 Cherry Street Northeast\, Decatur\, AL\, 35601-1970\, United States
CATEGORIES:Babies & their caregivers,Children,Family Programming,Tweens & Teens (ages 11-17)
ATTACH;FMTTYPE=image/png:https://mydpl.org/wp-content/uploads/2025/10/YS-Special-Guest-Story-Time-25NOV.png
END:VEVENT
BEGIN:VEVENT
DTSTART;TZID=America/Chicago:20251124T100000
DTEND;TZID=America/Chicago:20251124T120000
DTSTAMP:20260421T195056
CREATED:20251022T171333Z
LAST-MODIFIED:20251022T171333Z
UID:10001447-1763978400-1763985600@mydpl.org
SUMMARY:LEGO Morning
DESCRIPTION:Kids of all ages are welcome to come-and-go to build something fantastic with our LEGO® bricks!
URL:https://mydpl.org/event/lego-morning-7/
LOCATION:DPL Youth Services room\, 504 Cherry Street Northeast\, Decatur\, AL\, 35601-1970\, United States
CATEGORIES:Children,Tweens & Teens (ages 11-17)
ATTACH;FMTTYPE=image/png:https://mydpl.org/wp-content/uploads/2025/10/YS-LEGO-Morning-24NOV.png
END:VEVENT
BEGIN:VEVENT
DTSTART;TZID=America/Chicago:20251120T100000
DTEND;TZID=America/Chicago:20251121T163000
DTSTAMP:20260421T195056
CREATED:20251103T212229Z
LAST-MODIFIED:20251103T212229Z
UID:10001452-1763632800-1763742600@mydpl.org
SUMMARY:Come-and-Go Card Making for Adults
DESCRIPTION:Create holiday cards to be sent to an area nursing home or give to someone you know.   All supplies will be provided\, you just add the warm wishes and creativity!   Drop in any time to make one card or several. \nThe craft will be available on the dates and times above in the area outside the Youth Services Room\, for ages 18+ only.  (For adults who want to make cards with their children\, we have a  card-making station inside our Youth Services Room.) \n*Due to HVAC repair\,  the location may change.*
URL:https://mydpl.org/event/come-and-go-card-making-for-adults/
LOCATION:Decatur Public Library – hallway outside Marketing & Outreach\, 504 Cherry Street Northeast\, Decatur\, AL\, 35601-1970\, United States
CATEGORIES:Adults
ATTACH;FMTTYPE=image/png:https://mydpl.org/wp-content/uploads/2025/11/Come-and-go-card-making-for-adults-2025.png
END:VEVENT
BEGIN:VEVENT
DTSTART;TZID=America/Chicago:20251120T100000
DTEND;TZID=America/Chicago:20251121T163000
DTSTAMP:20260421T195056
CREATED:20251022T171628Z
LAST-MODIFIED:20251022T171628Z
UID:10001448-1763632800-1763742600@mydpl.org
SUMMARY:Come-and-Go Card Crafting
DESCRIPTION:Craft some holiday spirit at DPL! Kids up to age 17 (and their adults\, if they’d like) are invited to create holiday cards to be sent to an area nursing home or give to someone you know.   All supplies will be available; children provide the warm wishes and creativity!  The craft will be available on the dates and times above in our Youth Services Room.  Drop in any time to make one card or several!  There will be a separate setup in the hallway outside Youth Services for adults only.
URL:https://mydpl.org/event/come-and-go-card-crafting/
LOCATION:DPL Youth Services room\, 504 Cherry Street Northeast\, Decatur\, AL\, 35601-1970\, United States
CATEGORIES:Children,Tweens & Teens (ages 11-17)
ATTACH;FMTTYPE=image/png:https://mydpl.org/wp-content/uploads/2025/10/YS-Come-Go-Card-Crafting-BOTH.png
END:VEVENT
BEGIN:VEVENT
DTSTART;TZID=America/Chicago:20251119T103000
DTEND;TZID=America/Chicago:20251119T110000
DTSTAMP:20260421T195056
CREATED:20251022T170041Z
LAST-MODIFIED:20251022T170041Z
UID:10001441-1763548200-1763550000@mydpl.org
SUMMARY:Book Babies: Letter of the Week - L l
DESCRIPTION:Book Babies is story time for babies from birth to age 3 and their adults. We do bouncing rhymes and sing songs!
URL:https://mydpl.org/event/book-babies-letter-of-the-week-l-l/
LOCATION:DPL Youth Services room\, 504 Cherry Street Northeast\, Decatur\, AL\, 35601-1970\, United States
CATEGORIES:Babies & their caregivers
ATTACH;FMTTYPE=image/png:https://mydpl.org/wp-content/uploads/2025/10/YS-Book-Babies-19NOV.png
END:VEVENT
BEGIN:VEVENT
DTSTART;TZID=America/Chicago:20251118T103000
DTEND;TZID=America/Chicago:20251118T110000
DTSTAMP:20260421T195056
CREATED:20251022T165637Z
LAST-MODIFIED:20251022T165637Z
UID:10001439-1763461800-1763463600@mydpl.org
SUMMARY:Story Time: Food
DESCRIPTION:Story Time is designed for preschool children.  We say poems and read stories.  All are welcome!
URL:https://mydpl.org/event/story-time-food/
LOCATION:DPL Youth Services room\, 504 Cherry Street Northeast\, Decatur\, AL\, 35601-1970\, United States
CATEGORIES:Babies & their caregivers,Children
ATTACH;FMTTYPE=image/png:https://mydpl.org/wp-content/uploads/2025/10/YS-Story-Time-18NOV.png
END:VEVENT
BEGIN:VEVENT
DTSTART;TZID=America/Chicago:20251115T100000
DTEND;TZID=America/Chicago:20251115T120000
DTSTAMP:20260421T195056
CREATED:20251022T171138Z
LAST-MODIFIED:20251022T171138Z
UID:10001446-1763200800-1763208000@mydpl.org
SUMMARY:LEGO Morning
DESCRIPTION:Kids of all ages are welcome to come-and-go to build something fantastic with our LEGO® bricks!
URL:https://mydpl.org/event/lego-morning/
LOCATION:DPL Youth Services room\, 504 Cherry Street Northeast\, Decatur\, AL\, 35601-1970\, United States
CATEGORIES:Children,Tweens & Teens (ages 11-17)
ATTACH;FMTTYPE=image/png:https://mydpl.org/wp-content/uploads/2025/10/YS-LEGO-Morning-15NOV.png
END:VEVENT
BEGIN:VEVENT
DTSTART;TZID=America/Chicago:20251112T103000
DTEND;TZID=America/Chicago:20251112T110000
DTSTAMP:20260421T195056
CREATED:20251022T170748Z
LAST-MODIFIED:20251022T170748Z
UID:10001444-1762943400-1762945200@mydpl.org
SUMMARY:Family Story Time: Dinos!
DESCRIPTION:When we have a week shortened by a holiday\, we combine our Story Time and Book Babies programs into one Family Story Time!  All ages are welcome for stories\, songs and fun\, all surrounding a theme.
URL:https://mydpl.org/event/family-story-time-dinos/
LOCATION:DPL Youth Services room\, 504 Cherry Street Northeast\, Decatur\, AL\, 35601-1970\, United States
CATEGORIES:Babies & their caregivers,Children,Tweens & Teens (ages 11-17)
ATTACH;FMTTYPE=image/png:https://mydpl.org/wp-content/uploads/2025/10/YS-Family-Story-Time-12NOV.png
END:VEVENT
BEGIN:VEVENT
DTSTART;VALUE=DATE:20251111
DTEND;VALUE=DATE:20251112
DTSTAMP:20260421T195056
CREATED:20250102T175316Z
LAST-MODIFIED:20250102T175316Z
UID:10000811-1762819200-1762905599@mydpl.org
SUMMARY:DPL CLOSED
DESCRIPTION:DPL is closed in observance of Veterans Day. We will reopen on Wednesday\, November 12th\, at 10am.
URL:https://mydpl.org/event/dpl-closed-7/
CATEGORIES:DPL CLOSED
ATTACH;FMTTYPE=image/png:https://mydpl.org/wp-content/uploads/2025/01/CLOSED-Veterans-Day.png
END:VEVENT
BEGIN:VEVENT
DTSTART;TZID=America/Chicago:20251106T160000
DTEND;TZID=America/Chicago:20251106T170000
DTSTAMP:20260421T195056
CREATED:20251022T170509Z
LAST-MODIFIED:20251022T170509Z
UID:10001443-1762444800-1762448400@mydpl.org
SUMMARY:LEGO Hour: Thanksgiving
DESCRIPTION:Kids of all ages can build something with a Thanksgiving theme using our collection of LEGO® bricks.  All are welcome!
URL:https://mydpl.org/event/lego-hour-thanksgiving/
LOCATION:DPL Youth Services room\, 504 Cherry Street Northeast\, Decatur\, AL\, 35601-1970\, United States
CATEGORIES:Babies & their caregivers,Children,Tweens & Teens (ages 11-17)
ATTACH;FMTTYPE=image/png:https://mydpl.org/wp-content/uploads/2025/10/YS-LEGO-Hour-6NOV.png
END:VEVENT
BEGIN:VEVENT
DTSTART;TZID=America/Chicago:20251106T120000
DTEND;TZID=America/Chicago:20251106T140000
DTSTAMP:20260421T195056
CREATED:20251022T175405Z
LAST-MODIFIED:20251022T175405Z
UID:10001450-1762430400-1762437600@mydpl.org
SUMMARY:ARC ERAs Book Club
DESCRIPTION:
URL:https://mydpl.org/event/arc-eras-book-club/
LOCATION:DPL Community Room\, 504 Cherry St.\, NE\, Decatur\, 35601\, United States
CATEGORIES:Adults
ATTACH;FMTTYPE=image/png:https://mydpl.org/wp-content/uploads/2025/01/WEB-book-club-button-2.png
END:VEVENT
BEGIN:VEVENT
DTSTART;TZID=America/Chicago:20251105T160000
DTEND;TZID=America/Chicago:20251105T170000
DTSTAMP:20260421T195056
CREATED:20251022T170257Z
LAST-MODIFIED:20251022T170257Z
UID:10001442-1762358400-1762362000@mydpl.org
SUMMARY:Youth Book Club: Scientist Biography
DESCRIPTION:Kids ages 8+ are invited to this book club just for kids!  Read a biography about a scientist to discuss in this month’s meeting.
URL:https://mydpl.org/event/youth-book-club-scientist-biography/
LOCATION:Story Hour Room\, 504 Cherry Street Northeast\, Decatur\, AL\, 35601-1970\, United States
CATEGORIES:Children,Tweens & Teens (ages 11-17)
ATTACH;FMTTYPE=image/png:https://mydpl.org/wp-content/uploads/2025/10/YS-Youth-Book-Club-5NOV.png
END:VEVENT
BEGIN:VEVENT
DTSTART;TZID=America/Chicago:20251105T120000
DTEND;TZID=America/Chicago:20251105T143000
DTSTAMP:20260421T195056
CREATED:20250916T203204Z
LAST-MODIFIED:20250916T203204Z
UID:10001429-1762344000-1762353000@mydpl.org
SUMMARY:Friends of Decatur Public Library: 2025 Author Luncheon
DESCRIPTION:featuring  Linda Howard & Linda Winstead Jones  \nEnjoy lunch\, a talk and book signing with the authors  \nTickets are required and are available for $35.00 per person at Decatur Public Library’s Public Services desk\, during library hours. \nTickets must be purchased by 6pm on Tuesday\, October 21st\, or until they sell out.  \nBooks will be available for purchase on-site from Brown Books & More. \n 
URL:https://mydpl.org/event/friends-of-decatur-public-library-2025-author-luncheon/
LOCATION:Burningtree Country Club\, 2521 Burningtree Dr SE\, Decatur\, 35603\, United States
CATEGORIES:Friends of Decatur Public Library event
ATTACH;FMTTYPE=image/png:https://mydpl.org/wp-content/uploads/2025/09/2025-FoL-Luncheon-e1758054669118.png
END:VEVENT
BEGIN:VEVENT
DTSTART;TZID=America/Chicago:20251105T103000
DTEND;TZID=America/Chicago:20251105T110000
DTSTAMP:20260421T195056
CREATED:20251022T165837Z
LAST-MODIFIED:20251022T165837Z
UID:10001440-1762338600-1762340400@mydpl.org
SUMMARY:Book Babies: Letter of the Week - K k
DESCRIPTION:Book Babies is story time for babies from birth to age 3 and their adults. We do bouncing rhymes and sing songs! \n 
URL:https://mydpl.org/event/book-babies-letter-of-the-week-k-k/
LOCATION:DPL Youth Services room\, 504 Cherry Street Northeast\, Decatur\, AL\, 35601-1970\, United States
CATEGORIES:Babies & their caregivers
ATTACH;FMTTYPE=image/png:https://mydpl.org/wp-content/uploads/2025/10/YS-Book-Babies-5NOV.png
END:VEVENT
BEGIN:VEVENT
DTSTART;TZID=America/Chicago:20251104T103000
DTEND;TZID=America/Chicago:20251104T110000
DTSTAMP:20260421T195056
CREATED:20251022T165045Z
LAST-MODIFIED:20251022T165046Z
UID:10001438-1762252200-1762254000@mydpl.org
SUMMARY:Story Time: Books
DESCRIPTION:Story Time is designed for preschool children.  We say poems and read stories.  All are welcome!
URL:https://mydpl.org/event/story-time-books/
LOCATION:DPL Youth Services room\, 504 Cherry Street Northeast\, Decatur\, AL\, 35601-1970\, United States
CATEGORIES:Babies & their caregivers,Children
ATTACH;FMTTYPE=image/png:https://mydpl.org/wp-content/uploads/2025/10/YS-Story-Time-4NOV.png
END:VEVENT
BEGIN:VEVENT
DTSTART;TZID=America/Chicago:20251031T103000
DTEND;TZID=America/Chicago:20251031T110000
DTSTAMP:20260421T195056
CREATED:20250916T201954Z
LAST-MODIFIED:20250916T201954Z
UID:10001426-1761906600-1761908400@mydpl.org
SUMMARY:Halloween Story Time and Trick-or-Treat Train
DESCRIPTION:Join us for a Story Time all about Halloween!  After story time\, kids and families can trick- or-treat through the library\, where staff members will be set up at stations giving out treats.  Be sure to wear your Halloween costume and bring a bag or bucket to collect your candy! \n 
URL:https://mydpl.org/event/halloween-story-time-and-trick-or-treat-train/
LOCATION:DPL Youth Services room\, 504 Cherry Street Northeast\, Decatur\, AL\, 35601-1970\, United States
CATEGORIES:Babies & their caregivers,Children
ATTACH;FMTTYPE=image/png:https://mydpl.org/wp-content/uploads/2025/09/YS-Halloween-Story-Time-ToT-Train-31OCT.png
END:VEVENT
BEGIN:VEVENT
DTSTART;TZID=America/Chicago:20251030T170000
DTEND;TZID=America/Chicago:20251030T190000
DTSTAMP:20260421T195056
CREATED:20251001T223324Z
LAST-MODIFIED:20251001T223324Z
UID:10001435-1761843600-1761850800@mydpl.org
SUMMARY:OUTREACH - DFR Special Needs Spooktacular
DESCRIPTION:Decatur Fire & Rescue presents a free event for all special needs people and immediate family (caretakers). \nA night of fun with our Special Needs community.  Free hotdogs\, drinks\, pony rides\, face painting\, candy\, haunted house\, & story time.
URL:https://mydpl.org/event/outreach-dfr-special-needs-spooktacular/
LOCATION:City of Decatur Fire & Police Training Center\, 4119 Old Hwy 31\, Decatur\, AL\, 35603
CATEGORIES:Adults,Babies & their caregivers,Children,Family Programming,Tweens & Teens (ages 11-17)
ATTACH;FMTTYPE=image/png:https://mydpl.org/wp-content/uploads/2025/10/OUTREACH-DFR-Special-Needs-spooktacular-OCT2025-1.png
END:VEVENT
BEGIN:VEVENT
DTSTART;TZID=America/Chicago:20251030T163000
DTEND;TZID=America/Chicago:20251030T170000
DTSTAMP:20260421T195056
CREATED:20250916T201740Z
LAST-MODIFIED:20250916T201740Z
UID:10001425-1761841800-1761843600@mydpl.org
SUMMARY:Afternoon Story Time: Halloween
DESCRIPTION:School-aged kids are invited to this  afternoon story time all about Halloween.  It’s a fun way to unwind after school with some stories!
URL:https://mydpl.org/event/afternoon-story-time-halloween/
LOCATION:DPL Youth Services room\, 504 Cherry Street Northeast\, Decatur\, AL\, 35601-1970\, United States
CATEGORIES:Children
ATTACH;FMTTYPE=image/png:https://mydpl.org/wp-content/uploads/2025/09/YS-Afternoon-Story-Time-30OCT.png
END:VEVENT
BEGIN:VEVENT
DTSTART;TZID=America/Chicago:20251029T103000
DTEND;TZID=America/Chicago:20251029T110000
DTSTAMP:20260421T195056
CREATED:20250916T194826Z
LAST-MODIFIED:20250916T194826Z
UID:10001418-1761733800-1761735600@mydpl.org
SUMMARY:Book Babies: Letter of the Week - J j
DESCRIPTION:Book Babies is story time for babies from birth to age 3 and their adults. We do bouncing rhymes and sing songs!
URL:https://mydpl.org/event/book-babies-letter-of-the-week-j-j/
LOCATION:DPL Youth Services room\, 504 Cherry Street Northeast\, Decatur\, AL\, 35601-1970\, United States
CATEGORIES:Babies & their caregivers
ATTACH;FMTTYPE=image/png:https://mydpl.org/wp-content/uploads/2025/09/YS-Book-Babies-29OCT.png
END:VEVENT
BEGIN:VEVENT
DTSTART;TZID=America/Chicago:20251025T133000
DTEND;TZID=America/Chicago:20251025T154500
DTSTAMP:20260421T195056
CREATED:20250916T202728Z
LAST-MODIFIED:20250916T202728Z
UID:10001428-1761399000-1761407100@mydpl.org
SUMMARY:Tweens & Teen: Brick Zone
DESCRIPTION:Ages 11-17 can come hang out and create something with our LEGO® brick collection.  This is a come & go event\, so stop by during the event time as your schedule permits.
URL:https://mydpl.org/event/tweens-teen-brick-zone/
LOCATION:Story Hour Room\, 504 Cherry Street Northeast\, Decatur\, AL\, 35601-1970\, United States
CATEGORIES:Tweens & Teens (ages 11-17)
ATTACH;FMTTYPE=image/png:https://mydpl.org/wp-content/uploads/2025/09/YS-TT-Brick-Zone-25OCT.png
END:VEVENT
BEGIN:VEVENT
DTSTART;TZID=America/Chicago:20251023T163000
DTEND;TZID=America/Chicago:20251023T183000
DTSTAMP:20260421T195056
CREATED:20251001T222350Z
LAST-MODIFIED:20251001T222350Z
UID:10001434-1761237000-1761244200@mydpl.org
SUMMARY:OUTREACH - CAPNA Weatherization Day Trunk or Treat
DESCRIPTION:Community Action Partnership of North Alabama (CAPNA) celebrates  Weatherization Day  with a Trunk or Treat! \nProgram & Agency information – Community Resources – Energy Audits Exhibits – DIY Weatherization Tips – and most importantly….candy!
URL:https://mydpl.org/event/outreach-capna-weatherization-day-trunk-or-treat/
LOCATION:CAPNA\, 1909 Central Parkway SW\, Decatur\, AL\, 35601
CATEGORIES:Adults,Babies & their caregivers,Children,Family Programming,Tweens & Teens (ages 11-17)
ATTACH;FMTTYPE=image/png:https://mydpl.org/wp-content/uploads/2025/10/OUTREACH-CAPNA-Trunk-or-Treat-OCT-2025-1.png
END:VEVENT
BEGIN:VEVENT
DTSTART;TZID=America/Chicago:20251022T103000
DTEND;TZID=America/Chicago:20251022T110000
DTSTAMP:20260421T195056
CREATED:20250916T194622Z
LAST-MODIFIED:20250916T194641Z
UID:10001417-1761129000-1761130800@mydpl.org
SUMMARY:Book Babies: Letter of the Week - I i
DESCRIPTION:Book Babies is story time for babies from birth to age 3 and their adults. We do bouncing rhymes and sing songs!
URL:https://mydpl.org/event/book-babies-letter-of-the-week-i-i/
LOCATION:DPL Youth Services room\, 504 Cherry Street Northeast\, Decatur\, AL\, 35601-1970\, United States
CATEGORIES:Babies & their caregivers
ATTACH;FMTTYPE=image/png:https://mydpl.org/wp-content/uploads/2025/09/YS-Book-Babies-22OCT.png
END:VEVENT
BEGIN:VEVENT
DTSTART;TZID=America/Chicago:20251021T160000
DTEND;TZID=America/Chicago:20251021T190000
DTSTAMP:20260421T195056
CREATED:20251001T221000Z
LAST-MODIFIED:20251001T221000Z
UID:10001433-1761062400-1761073200@mydpl.org
SUMMARY:OUTREACH - Texas Roadhouse Trunk-or-Treat
DESCRIPTION:Decatur’s Texas Roadhouse will have a Trunk-or-Treat in their parking lot\, featuring lots of local groups\, organizations & businesses giving out candy.  Wear your Halloween costume and be ready to have fun…and get candy!
URL:https://mydpl.org/event/outreach-texas-roadhouse-trunk-or-treat/
LOCATION:Texas Roadhouse – Decatur\, AL\, 1006 Beltline Rd SE\, Decatur\, AL\, 35601
CATEGORIES:Babies & their caregivers,Children,Family Programming,Tweens & Teens (ages 11-17)
ATTACH;FMTTYPE=image/png:https://mydpl.org/wp-content/uploads/2025/10/OUTREACH-TX-Roadhouse-OCT2025.png
END:VEVENT
BEGIN:VEVENT
DTSTART;TZID=America/Chicago:20250902T100000
DTEND;TZID=America/Chicago:20251103T170000
DTSTAMP:20260421T195056
CREATED:20250821T162254Z
LAST-MODIFIED:20250821T162254Z
UID:10001383-1756807200-1762189200@mydpl.org
SUMMARY:Book Tower Challenge
DESCRIPTION:Check out books to help us build a book tower! \nSep. 2nd – Nov. 3rd \nGet the details at www.myDPL.org/YS.
URL:https://mydpl.org/event/book-tower-challenge/
LOCATION:DPL Youth Services room\, 504 Cherry Street Northeast\, Decatur\, AL\, 35601-1970\, United States
CATEGORIES:Babies & their caregivers,Children,Tweens & Teens (ages 11-17)
ATTACH;FMTTYPE=image/png:https://mydpl.org/wp-content/uploads/2025/08/YS-Build-a-Book-Tower-2SEP-3NOV.png
END:VEVENT
END:VCALENDAR