BEGIN:VCALENDAR
VERSION:2.0
PRODID:-//Decatur Public Library - ECPv6.15.17.1//NONSGML v1.0//EN
CALSCALE:GREGORIAN
METHOD:PUBLISH
X-WR-CALNAME:Decatur Public Library
X-ORIGINAL-URL:https://mydpl.org
X-WR-CALDESC:Events for Decatur Public Library
REFRESH-INTERVAL;VALUE=DURATION:PT1H
X-Robots-Tag:noindex
X-PUBLISHED-TTL:PT1H
BEGIN:VTIMEZONE
TZID:America/Chicago
BEGIN:DAYLIGHT
TZOFFSETFROM:-0600
TZOFFSETTO:-0500
TZNAME:CDT
DTSTART:20250309T080000
END:DAYLIGHT
BEGIN:STANDARD
TZOFFSETFROM:-0500
TZOFFSETTO:-0600
TZNAME:CST
DTSTART:20251102T070000
END:STANDARD
BEGIN:DAYLIGHT
TZOFFSETFROM:-0600
TZOFFSETTO:-0500
TZNAME:CDT
DTSTART:20260308T080000
END:DAYLIGHT
BEGIN:STANDARD
TZOFFSETFROM:-0500
TZOFFSETTO:-0600
TZNAME:CST
DTSTART:20261101T070000
END:STANDARD
BEGIN:DAYLIGHT
TZOFFSETFROM:-0600
TZOFFSETTO:-0500
TZNAME:CDT
DTSTART:20270314T080000
END:DAYLIGHT
BEGIN:STANDARD
TZOFFSETFROM:-0500
TZOFFSETTO:-0600
TZNAME:CST
DTSTART:20271107T070000
END:STANDARD
BEGIN:DAYLIGHT
TZOFFSETFROM:-0600
TZOFFSETTO:-0500
TZNAME:CDT
DTSTART:20280312T080000
END:DAYLIGHT
BEGIN:STANDARD
TZOFFSETFROM:-0500
TZOFFSETTO:-0600
TZNAME:CST
DTSTART:20281105T070000
END:STANDARD
END:VTIMEZONE
BEGIN:VEVENT
DTSTART;VALUE=DATE:20261126
DTEND;VALUE=DATE:20261128
DTSTAMP:20260421T154410
CREATED:20251215T181455Z
LAST-MODIFIED:20251215T181455Z
UID:10001478-1795651200-1795823999@mydpl.org
SUMMARY:DPL CLOSED
DESCRIPTION:Decatur Public Library is CLOSED Thursday\, November 26th\, and Friday\, November 27th\, in observance of Thanksgiving.  We will reopen Saturday\, November 28th\, at 10am.
URL:https://mydpl.org/event/dpl-closed-14/
ATTACH;FMTTYPE=image/png:https://mydpl.org/wp-content/uploads/2025/12/CLOSED-Thanksgiving.png
END:VEVENT
BEGIN:VEVENT
DTSTART;VALUE=DATE:20261224
DTEND;VALUE=DATE:20261227
DTSTAMP:20260421T154410
CREATED:20251215T181738Z
LAST-MODIFIED:20251215T181810Z
UID:10001479-1798070400-1798329599@mydpl.org
SUMMARY:DPL CLOSED
DESCRIPTION:Decatur Public Library is CLOSED Thursday\, December 24th\, Friday\, December 25th\, & Saturday December 26th\, in observance of Christmas.  We will reopen Monday\, December 28th\, at 10am. \n 
URL:https://mydpl.org/event/dpl-closed-15/
ATTACH;FMTTYPE=image/png:https://mydpl.org/wp-content/uploads/2025/12/CLOSED-Christmas.png
END:VEVENT
BEGIN:VEVENT
DTSTART;TZID=America/Chicago:20261231T100000
DTEND;TZID=America/Chicago:20261231T140000
DTSTAMP:20260421T154410
CREATED:20251215T182358Z
LAST-MODIFIED:20251215T182358Z
UID:10001481-1798711200-1798725600@mydpl.org
SUMMARY:DPL CLOSES AT 2PM
DESCRIPTION:Decatur Public Library will close at 2pm today for New Year’s Eve.  We will be closed all day on Friday\, January 1st\, and Saturday\, January 2nd\, in observance of the new year.  We will reopen Monday\, January 4th\, at 10am.
URL:https://mydpl.org/event/dpl-closes-at-2pm/
ATTACH;FMTTYPE=image/png:https://mydpl.org/wp-content/uploads/2025/12/CLOSED-New-Year.png
END:VEVENT
BEGIN:VEVENT
DTSTART;VALUE=DATE:20270101
DTEND;VALUE=DATE:20270103
DTSTAMP:20260421T154410
CREATED:20251215T182054Z
LAST-MODIFIED:20251215T182054Z
UID:10001480-1798761600-1798934399@mydpl.org
SUMMARY:DPL CLOSED
DESCRIPTION:Decatur Public Library is CLOSED in observance of the New Year. We will reopen Monday\, January 4th\, at 10am.
URL:https://mydpl.org/event/dpl-closed-16/
ATTACH;FMTTYPE=image/png:https://mydpl.org/wp-content/uploads/2025/12/CLOSED-New-Year.png
END:VEVENT
END:VCALENDAR