BEGIN:VCALENDAR
VERSION:2.0
PRODID:-//Decatur Public Library - ECPv6.15.17.1//NONSGML v1.0//EN
CALSCALE:GREGORIAN
METHOD:PUBLISH
X-ORIGINAL-URL:https://mydpl.org
X-WR-CALDESC:Events for Decatur Public Library
REFRESH-INTERVAL;VALUE=DURATION:PT1H
X-Robots-Tag:noindex
X-PUBLISHED-TTL:PT1H
BEGIN:VTIMEZONE
TZID:America/Chicago
BEGIN:DAYLIGHT
TZOFFSETFROM:-0600
TZOFFSETTO:-0500
TZNAME:CDT
DTSTART:20250309T080000
END:DAYLIGHT
BEGIN:STANDARD
TZOFFSETFROM:-0500
TZOFFSETTO:-0600
TZNAME:CST
DTSTART:20251102T070000
END:STANDARD
BEGIN:DAYLIGHT
TZOFFSETFROM:-0600
TZOFFSETTO:-0500
TZNAME:CDT
DTSTART:20260308T080000
END:DAYLIGHT
BEGIN:STANDARD
TZOFFSETFROM:-0500
TZOFFSETTO:-0600
TZNAME:CST
DTSTART:20261101T070000
END:STANDARD
BEGIN:DAYLIGHT
TZOFFSETFROM:-0600
TZOFFSETTO:-0500
TZNAME:CDT
DTSTART:20270314T080000
END:DAYLIGHT
BEGIN:STANDARD
TZOFFSETFROM:-0500
TZOFFSETTO:-0600
TZNAME:CST
DTSTART:20271107T070000
END:STANDARD
END:VTIMEZONE
BEGIN:VEVENT
DTSTART;TZID=America/Chicago:20260209T160000
DTEND;TZID=America/Chicago:20260209T170000
DTSTAMP:20260420T120732
CREATED:20260127T181444Z
LAST-MODIFIED:20260127T181444Z
UID:10001520-1770652800-1770656400@mydpl.org
SUMMARY:Tweens & Teens: Bookémon
DESCRIPTION:Ages 11-17 are invited to come and make some Bookémon cards! \nTemplates and supplies provided; you bring your imagination and your favorite books to make your cards. You can even exchange them with other people!
URL:https://mydpl.org/event/tweens-teens-bookemon/
LOCATION:Story Hour Room\, 504 Cherry Street Northeast\, Decatur\, AL\, 35601-1970\, United States
CATEGORIES:Tweens & Teens (ages 11-17)
ATTACH;FMTTYPE=image/png:https://mydpl.org/wp-content/uploads/2026/01/YS-TT-Bookemon-9FEB.png
END:VEVENT
BEGIN:VEVENT
DTSTART;TZID=America/Chicago:20260216T103000
DTEND;TZID=America/Chicago:20260216T110000
DTSTAMP:20260420T120732
CREATED:20260127T180224Z
LAST-MODIFIED:20260127T180224Z
UID:10001515-1771237800-1771239600@mydpl.org
SUMMARY:Special Guest Story Time: Princess Aurora
DESCRIPTION:Princess Aurora will be at DPL!  \nShe’ll read a story or two and do a meet & greet where she’ll pose for pictures with children. We’ll also have a coloring sheet. \nPrincess Aurora appears courtesy of Magical Memories AL. \n 
URL:https://mydpl.org/event/special-guest-story-time-princess-aurora/
LOCATION:DPL Youth Services room\, 504 Cherry Street Northeast\, Decatur\, AL\, 35601-1970\, United States
CATEGORIES:Babies & their caregivers,Children,Tweens & Teens (ages 11-17)
ATTACH;FMTTYPE=image/png:https://mydpl.org/wp-content/uploads/2026/01/YS-Special-Guest-Story-Time-16FEB.png
END:VEVENT
BEGIN:VEVENT
DTSTART;TZID=America/Chicago:20260221T100000
DTEND;TZID=America/Chicago:20260221T120000
DTSTAMP:20260420T120732
CREATED:20260127T180616Z
LAST-MODIFIED:20260127T180616Z
UID:10001517-1771668000-1771675200@mydpl.org
SUMMARY:LEGO Morning
DESCRIPTION:Kids of all ages are welcome to come-and-go to build something fantastic with our LEGO® bricks!
URL:https://mydpl.org/event/lego-morning-3/
LOCATION:DPL Youth Services room\, 504 Cherry Street Northeast\, Decatur\, AL\, 35601-1970\, United States
CATEGORIES:Children,Tweens & Teens (ages 11-17)
ATTACH;FMTTYPE=image/png:https://mydpl.org/wp-content/uploads/2026/01/YS-LEGO-Morning-21FEB.png
END:VEVENT
BEGIN:VEVENT
DTSTART;TZID=America/Chicago:20260226T163000
DTEND;TZID=America/Chicago:20260226T170000
DTSTAMP:20260420T120732
CREATED:20260127T180834Z
LAST-MODIFIED:20260127T180834Z
UID:10001518-1772123400-1772125200@mydpl.org
SUMMARY:Afternoon Story Time: Butterflies
DESCRIPTION:Afternoon Story Time is designed for school-aged kids\, so they can unwind after school with fun stories. \nThis  month Ms. Brittany will read books featuring butterflies!
URL:https://mydpl.org/event/afternoon-story-time-butterflies/
LOCATION:DPL Youth Services room\, 504 Cherry Street Northeast\, Decatur\, AL\, 35601-1970\, United States
CATEGORIES:Children,Children age 8+,Tweens & Teens (ages 11-17)
ATTACH;FMTTYPE=image/png:https://mydpl.org/wp-content/uploads/2026/01/YS-Afternoon-Story-Time-26FEB.png
END:VEVENT
BEGIN:VEVENT
DTSTART;TZID=America/Chicago:20260305T160000
DTEND;TZID=America/Chicago:20260305T170000
DTSTAMP:20260420T120732
CREATED:20260209T235129Z
LAST-MODIFIED:20260209T235129Z
UID:10001628-1772726400-1772730000@mydpl.org
SUMMARY:LEGO Hour: St. Patrick's Day
DESCRIPTION:Kids of all ages are welcome to come-and-go to build something fantastic with our LEGO® bricks. \nThis month’s challenge: build something green to celebrate St. Patrick’s Day! \n 
URL:https://mydpl.org/event/lego-hour-st-patricks-day/
LOCATION:DPL Community Room\, 504 Cherry St.\, NE\, Decatur\, 35601\, United States
CATEGORIES:Children,Tweens & Teens (ages 11-17)
ATTACH;FMTTYPE=image/png:https://mydpl.org/wp-content/uploads/2026/02/YS-LEGO-Hour-5MAR.png
END:VEVENT
BEGIN:VEVENT
DTSTART;TZID=America/Chicago:20260317T103000
DTEND;TZID=America/Chicago:20260317T110000
DTSTAMP:20260420T120732
CREATED:20260210T212817Z
LAST-MODIFIED:20260210T212817Z
UID:10001630-1773743400-1773745200@mydpl.org
SUMMARY:Special Guest Story Time: Nesta the Gnome
DESCRIPTION:Come to this special story time and meet Nesta\, the St. Patrick’s Day Gnome! She’ll read a story and pose for pictures. We’ll also have a St. Patrick’s Day coloring page.  Be sure to wear green! Nesta appears courtesy of\nMagical Memories AL.
URL:https://mydpl.org/event/special-guest-story-time-nesta-the-gnome/
LOCATION:DPL Youth Services room\, 504 Cherry Street Northeast\, Decatur\, AL\, 35601-1970\, United States
CATEGORIES:Children,Tweens & Teens (ages 11-17)
ATTACH;FMTTYPE=image/png:https://mydpl.org/wp-content/uploads/2026/02/YS-Special-Guest-Story-Time-17MAR.png
END:VEVENT
BEGIN:VEVENT
DTSTART;TZID=America/Chicago:20260317T150000
DTEND;TZID=America/Chicago:20260317T170000
DTSTAMP:20260420T120732
CREATED:20260210T213525Z
LAST-MODIFIED:20260210T213525Z
UID:10001633-1773759600-1773766800@mydpl.org
SUMMARY:Tweens & Teens: Slime Time
DESCRIPTION:Ages 11-17 are invited to come hang out and make slime! \nAll supplies are provided.  No registration required.  This program is free. \n 
URL:https://mydpl.org/event/tweens-teens-slime-time-2/
LOCATION:Story Hour Room\, 504 Cherry Street Northeast\, Decatur\, AL\, 35601-1970\, United States
CATEGORIES:Tweens & Teens (ages 11-17)
ATTACH;FMTTYPE=image/png:https://mydpl.org/wp-content/uploads/2026/02/YS-TT-Slime-Time-17MAR.png
END:VEVENT
BEGIN:VEVENT
DTSTART;TZID=America/Chicago:20260319T090000
DTEND;TZID=America/Chicago:20260319T120000
DTSTAMP:20260420T120732
CREATED:20260226T163607Z
LAST-MODIFIED:20260226T165411Z
UID:10001635-1773910800-1773921600@mydpl.org
SUMMARY:Day in the Park at Delano: All About Birds & Trees
DESCRIPTION:9am – Bird Walk for all ages with Ava Lyerly of the North Alabama Young Birders Club \n10am – Story Time with Ms. Zoie from DPL \n10:30am – 11:30am:  4-H Science School Raptor Trek program \nPhoto opp with Tansy the Meadow Princess (from Magical Memories AL) \nEducational tables from the Leave No Trace\, the \nInternational Crane Foundation\, and North Alabama Young Birders Club \nLearn about trees with DPL’s scavenger hunt and the Tree Lady (sponsored by Delano Park Conservancy) \nand free books for kids from DPL! \nIn the event of rain\, all events will take place at DPL.  \n 
URL:https://mydpl.org/event/day-in-the-park-at-delano-all-about-birds-trees/
LOCATION:Delano Park\, 825 Gordon Dr SE\, Decatur\, AL\, 35601\, United States
CATEGORIES:Adults,Babies & their caregivers,Children,Family Programming,Teens,Tweens & Teens (ages 11-17)
ATTACH;FMTTYPE=image/png:https://mydpl.org/wp-content/uploads/2026/02/Day-in-the-Park-at-Delano-MAR2026.png
END:VEVENT
BEGIN:VEVENT
DTSTART;TZID=America/Chicago:20260320T100000
DTEND;TZID=America/Chicago:20260320T120000
DTSTAMP:20260420T120732
CREATED:20260210T213036Z
LAST-MODIFIED:20260312T192123Z
UID:10001631-1774000800-1774008000@mydpl.org
SUMMARY:LEGO Morning
DESCRIPTION:Kids of all ages are welcome to come-and-go to build something fantastic with our LEGO® bricks!
URL:https://mydpl.org/event/lego-morning-10/
LOCATION:DPL Youth Services room\, 504 Cherry Street Northeast\, Decatur\, AL\, 35601-1970\, United States
CATEGORIES:Children,Tweens & Teens (ages 11-17)
ATTACH;FMTTYPE=image/png:https://mydpl.org/wp-content/uploads/2026/02/YS-LEGO-Morning-20Mar-CORRECTED.png
END:VEVENT
BEGIN:VEVENT
DTSTART;TZID=America/Chicago:20260402T160000
DTEND;TZID=America/Chicago:20260402T170000
DTSTAMP:20260420T120732
CREATED:20260318T223026Z
LAST-MODIFIED:20260318T223026Z
UID:10001647-1775145600-1775149200@mydpl.org
SUMMARY:LEGO Hour: Easter
DESCRIPTION:Kids of all ages are welcome to come-and-go to build something fantastic with our LEGO® bricks. \nThis month’s challenge: build something with an Easter theme!
URL:https://mydpl.org/event/lego-hour-easter/
LOCATION:DPL Community Room\, 504 Cherry St.\, NE\, Decatur\, 35601\, United States
CATEGORIES:Children,Tweens & Teens (ages 11-17)
ATTACH;FMTTYPE=image/png:https://mydpl.org/wp-content/uploads/2026/03/YS-LEGO-Hour-2APR.png
END:VEVENT
BEGIN:VEVENT
DTSTART;TZID=America/Chicago:20260403T150000
DTEND;TZID=America/Chicago:20260403T163000
DTSTAMP:20260420T120732
CREATED:20260319T211822Z
LAST-MODIFIED:20260319T211822Z
UID:10001653-1775228400-1775233800@mydpl.org
SUMMARY:Tweens & Teens: Flower Power
DESCRIPTION:Tired of flowers not lasting? Need a gift for someone’s birthday?   Ages 11-17 are invited to DPL to make flowers out of pipe cleaners.  Make one or multiple flowers.  All supplies are provided.  No registration required.   This program is free. \n 
URL:https://mydpl.org/event/tweens-teens-flower-power/
LOCATION:Story Hour Room\, 504 Cherry Street Northeast\, Decatur\, AL\, 35601-1970\, United States
CATEGORIES:Tweens & Teens (ages 11-17)
ATTACH;FMTTYPE=image/png:https://mydpl.org/wp-content/uploads/2026/03/YS-TT-Flower-Power-3APR.png
END:VEVENT
BEGIN:VEVENT
DTSTART;TZID=America/Chicago:20260410T140000
DTEND;TZID=America/Chicago:20260410T160000
DTSTAMP:20260420T120732
CREATED:20260313T203603Z
LAST-MODIFIED:20260313T203603Z
UID:10001639-1775829600-1775836800@mydpl.org
SUMMARY:DPL's Poetry Jam
DESCRIPTION:Celebrate National Poetry Month by signing up to be part of DPL’s Poetry Jam.  \nYou can recite a poem you wrote or read one of your favorites. Poems must be approved when you sign up\, as the program is for all ages. \nTo participate come by the Marketing & Outreach office to add your name to the sign-up sheet.  Be sure to have the title and author of the poem you plan to read with you. \nSign up by the 9th of April to be part of the program.  \nAll ages are encouraged to be part of the fun! \n 
URL:https://mydpl.org/event/dpls-poetry-jam/
LOCATION:DPL Youth Services room\, 504 Cherry Street Northeast\, Decatur\, AL\, 35601-1970\, United States
CATEGORIES:Adults,Children,Family Programming,Tweens & Teens (ages 11-17)
ATTACH;FMTTYPE=image/png:https://mydpl.org/wp-content/uploads/2026/03/Poetry-Jam-2026.png
END:VEVENT
BEGIN:VEVENT
DTSTART;TZID=America/Chicago:20260418T100000
DTEND;TZID=America/Chicago:20260418T120000
DTSTAMP:20260420T120732
CREATED:20260319T210426Z
LAST-MODIFIED:20260319T210426Z
UID:10001650-1776506400-1776513600@mydpl.org
SUMMARY:LEGO Morning
DESCRIPTION:Kids of all ages are welcome to come-and-go to build something fantastic with our LEGO® bricks!
URL:https://mydpl.org/event/lego-morning-4/
LOCATION:DPL Youth Services room\, 504 Cherry Street Northeast\, Decatur\, AL\, 35601-1970\, United States
CATEGORIES:Children,Tweens & Teens (ages 11-17)
ATTACH;FMTTYPE=image/png:https://mydpl.org/wp-content/uploads/2026/03/YS-LEGO-Morning-18APR.png
END:VEVENT
BEGIN:VEVENT
DTSTART;TZID=America/Chicago:20260421T103000
DTEND;TZID=America/Chicago:20260421T110000
DTSTAMP:20260420T120732
CREATED:20260319T211037Z
LAST-MODIFIED:20260319T211037Z
UID:10001651-1776767400-1776769200@mydpl.org
SUMMARY:Special Guest Story Time: Glimmer the Rainbow Fairy
DESCRIPTION:Come to this special story time and meet Glimmer\, the Rainbow Fairy!   She will pose for pictures with kids and we’ll celebrate Earth Day.  Feel free to wear your rainbows\, too!   Glimmer appears courtesy of Magical Memories AL. \n 
URL:https://mydpl.org/event/special-guest-story-time-glimmer-the-rainbow-fairy/
LOCATION:DPL Youth Services room\, 504 Cherry Street Northeast\, Decatur\, AL\, 35601-1970\, United States
CATEGORIES:Babies & their caregivers,Children,Tweens & Teens (ages 11-17)
ATTACH;FMTTYPE=image/png:https://mydpl.org/wp-content/uploads/2026/03/YS-Special-Guest-Story-Time-22APR.png
END:VEVENT
BEGIN:VEVENT
DTSTART;TZID=America/Chicago:20260502T100000
DTEND;TZID=America/Chicago:20260502T120000
DTSTAMP:20260420T120732
CREATED:20260417T172552Z
LAST-MODIFIED:20260417T172552Z
UID:10001658-1777716000-1777723200@mydpl.org
SUMMARY:LEGO Morning
DESCRIPTION:Kids of all ages are welcome to come-and-go to build something fantastic with our LEGO® bricks!  Drop in for 20 minutes or stay the whole time.  No registration is required for this free program.
URL:https://mydpl.org/event/lego-morning-5/
LOCATION:DPL Youth Services room\, 504 Cherry Street Northeast\, Decatur\, AL\, 35601-1970\, United States
CATEGORIES:Children,Tweens & Teens (ages 11-17)
ATTACH;FMTTYPE=image/png:https://mydpl.org/wp-content/uploads/2026/04/YS-LEGO-Morning-2MAY.png
END:VEVENT
BEGIN:VEVENT
DTSTART;TZID=America/Chicago:20260507T160000
DTEND;TZID=America/Chicago:20260507T170000
DTSTAMP:20260420T120732
CREATED:20260417T174623Z
LAST-MODIFIED:20260417T174623Z
UID:10001662-1778169600-1778173200@mydpl.org
SUMMARY:LEGO Hour: Spring
DESCRIPTION:The challenge for this session is to create something with a Spring theme.  Build some of your favorite things about Spring using DPL’s collection of LEGO bricks.  All ages are welcome.
URL:https://mydpl.org/event/lego-hour-spring/
LOCATION:DPL Community Room\, 504 Cherry St.\, NE\, Decatur\, 35601\, United States
CATEGORIES:Children,Tweens & Teens (ages 11-17)
ATTACH;FMTTYPE=image/png:https://mydpl.org/wp-content/uploads/2026/04/YS-LEGO-Hour-7MAY.png
END:VEVENT
BEGIN:VEVENT
DTSTART;TZID=America/Chicago:20260529T100000
DTEND;TZID=America/Chicago:20260529T140000
DTSTAMP:20260420T120732
CREATED:20260417T175650Z
LAST-MODIFIED:20260417T175650Z
UID:10001663-1780048800-1780063200@mydpl.org
SUMMARY:DPL Summer Reads Kick-off Event
DESCRIPTION:Kids up to age 15 can pick-up a DPL Summer Reads goodie bag (while supplies last). \nThe bag includes: \n\nA free book about dinosaurs\nReading app & registration info\nA summer calendar & prize information\n\nmyDPL.org/SummerReads \n 
URL:https://mydpl.org/event/dpl-summer-reads-kick-off-event/
LOCATION:DPL Youth Services room\, 504 Cherry Street Northeast\, Decatur\, AL\, 35601-1970\, United States
CATEGORIES:Babies & their caregivers,Children,Tweens & Teens (ages 11-17)
ATTACH;FMTTYPE=image/png:https://mydpl.org/wp-content/uploads/2026/04/Summer-Reads-Kickoff-flyer.png
END:VEVENT
BEGIN:VEVENT
DTSTART;TZID=America/Chicago:20260530T100000
DTEND;TZID=America/Chicago:20260530T120000
DTSTAMP:20260420T120732
CREATED:20260417T180831Z
LAST-MODIFIED:20260417T180831Z
UID:10001664-1780135200-1780142400@mydpl.org
SUMMARY:LEGO Morning
DESCRIPTION:The challenge for this session is to create something with a Spring theme.  Build some of your favorite things about Spring using DPL’s collection of LEGO bricks. All ages are welcome.
URL:https://mydpl.org/event/lego-morning-11/
LOCATION:DPL Youth Services room\, 504 Cherry Street Northeast\, Decatur\, AL\, 35601-1970\, United States
CATEGORIES:Children,Tweens & Teens (ages 11-17)
ATTACH;FMTTYPE=image/png:https://mydpl.org/wp-content/uploads/2026/04/YS-LEGO-Morning-30MAY.png
END:VEVENT
END:VCALENDAR