BEGIN:VCALENDAR
VERSION:2.0
PRODID:-//Decatur Public Library - ECPv6.15.17.1//NONSGML v1.0//EN
CALSCALE:GREGORIAN
METHOD:PUBLISH
X-WR-CALNAME:Decatur Public Library
X-ORIGINAL-URL:https://mydpl.org
X-WR-CALDESC:Events for Decatur Public Library
REFRESH-INTERVAL;VALUE=DURATION:PT1H
X-Robots-Tag:noindex
X-PUBLISHED-TTL:PT1H
BEGIN:VTIMEZONE
TZID:America/Chicago
BEGIN:DAYLIGHT
TZOFFSETFROM:-0600
TZOFFSETTO:-0500
TZNAME:CDT
DTSTART:20250309T080000
END:DAYLIGHT
BEGIN:STANDARD
TZOFFSETFROM:-0500
TZOFFSETTO:-0600
TZNAME:CST
DTSTART:20251102T070000
END:STANDARD
BEGIN:DAYLIGHT
TZOFFSETFROM:-0600
TZOFFSETTO:-0500
TZNAME:CDT
DTSTART:20260308T080000
END:DAYLIGHT
BEGIN:STANDARD
TZOFFSETFROM:-0500
TZOFFSETTO:-0600
TZNAME:CST
DTSTART:20261101T070000
END:STANDARD
BEGIN:DAYLIGHT
TZOFFSETFROM:-0600
TZOFFSETTO:-0500
TZNAME:CDT
DTSTART:20270314T080000
END:DAYLIGHT
BEGIN:STANDARD
TZOFFSETFROM:-0500
TZOFFSETTO:-0600
TZNAME:CST
DTSTART:20271107T070000
END:STANDARD
END:VTIMEZONE
BEGIN:VEVENT
DTSTART;TZID=America/Chicago:20260529T100000
DTEND;TZID=America/Chicago:20260529T140000
DTSTAMP:20260420T135126
CREATED:20260417T175650Z
LAST-MODIFIED:20260417T175650Z
UID:10001663-1780048800-1780063200@mydpl.org
SUMMARY:DPL Summer Reads Kick-off Event
DESCRIPTION:Kids up to age 15 can pick-up a DPL Summer Reads goodie bag (while supplies last). \nThe bag includes: \n\nA free book about dinosaurs\nReading app & registration info\nA summer calendar & prize information\n\nmyDPL.org/SummerReads \n 
URL:https://mydpl.org/event/dpl-summer-reads-kick-off-event/
LOCATION:DPL Youth Services room\, 504 Cherry Street Northeast\, Decatur\, AL\, 35601-1970\, United States
CATEGORIES:Babies & their caregivers,Children,Tweens & Teens (ages 11-17)
ATTACH;FMTTYPE=image/png:https://mydpl.org/wp-content/uploads/2026/04/Summer-Reads-Kickoff-flyer.png
END:VEVENT
BEGIN:VEVENT
DTSTART;TZID=America/Chicago:20260530T100000
DTEND;TZID=America/Chicago:20260530T120000
DTSTAMP:20260420T135126
CREATED:20260417T180831Z
LAST-MODIFIED:20260417T180831Z
UID:10001664-1780135200-1780142400@mydpl.org
SUMMARY:LEGO Morning
DESCRIPTION:The challenge for this session is to create something with a Spring theme.  Build some of your favorite things about Spring using DPL’s collection of LEGO bricks. All ages are welcome.
URL:https://mydpl.org/event/lego-morning-11/
LOCATION:DPL Youth Services room\, 504 Cherry Street Northeast\, Decatur\, AL\, 35601-1970\, United States
CATEGORIES:Children,Tweens & Teens (ages 11-17)
ATTACH;FMTTYPE=image/png:https://mydpl.org/wp-content/uploads/2026/04/YS-LEGO-Morning-30MAY.png
END:VEVENT
END:VCALENDAR