BEGIN:VCALENDAR
VERSION:2.0
PRODID:-//Decatur Public Library - ECPv6.15.17.1//NONSGML v1.0//EN
CALSCALE:GREGORIAN
METHOD:PUBLISH
X-WR-CALNAME:Decatur Public Library
X-ORIGINAL-URL:https://mydpl.org
X-WR-CALDESC:Events for Decatur Public Library
REFRESH-INTERVAL;VALUE=DURATION:PT1H
X-Robots-Tag:noindex
X-PUBLISHED-TTL:PT1H
BEGIN:VTIMEZONE
TZID:America/Chicago
BEGIN:DAYLIGHT
TZOFFSETFROM:-0600
TZOFFSETTO:-0500
TZNAME:CDT
DTSTART:20240310T080000
END:DAYLIGHT
BEGIN:STANDARD
TZOFFSETFROM:-0500
TZOFFSETTO:-0600
TZNAME:CST
DTSTART:20241103T070000
END:STANDARD
BEGIN:DAYLIGHT
TZOFFSETFROM:-0600
TZOFFSETTO:-0500
TZNAME:CDT
DTSTART:20250309T080000
END:DAYLIGHT
BEGIN:STANDARD
TZOFFSETFROM:-0500
TZOFFSETTO:-0600
TZNAME:CST
DTSTART:20251102T070000
END:STANDARD
BEGIN:DAYLIGHT
TZOFFSETFROM:-0600
TZOFFSETTO:-0500
TZNAME:CDT
DTSTART:20260308T080000
END:DAYLIGHT
BEGIN:STANDARD
TZOFFSETFROM:-0500
TZOFFSETTO:-0600
TZNAME:CST
DTSTART:20261101T070000
END:STANDARD
BEGIN:DAYLIGHT
TZOFFSETFROM:-0600
TZOFFSETTO:-0500
TZNAME:CDT
DTSTART:20270314T080000
END:DAYLIGHT
BEGIN:STANDARD
TZOFFSETFROM:-0500
TZOFFSETTO:-0600
TZNAME:CST
DTSTART:20271107T070000
END:STANDARD
END:VTIMEZONE
BEGIN:VEVENT
DTSTART;TZID=America/Chicago:20251120T100000
DTEND;TZID=America/Chicago:20251121T163000
DTSTAMP:20260422T035246
CREATED:20251022T171628Z
LAST-MODIFIED:20251022T171628Z
UID:10001448-1763632800-1763742600@mydpl.org
SUMMARY:Come-and-Go Card Crafting
DESCRIPTION:Craft some holiday spirit at DPL! Kids up to age 17 (and their adults\, if they’d like) are invited to create holiday cards to be sent to an area nursing home or give to someone you know.   All supplies will be available; children provide the warm wishes and creativity!  The craft will be available on the dates and times above in our Youth Services Room.  Drop in any time to make one card or several!  There will be a separate setup in the hallway outside Youth Services for adults only.
URL:https://mydpl.org/event/come-and-go-card-crafting/
LOCATION:DPL Youth Services room\, 504 Cherry Street Northeast\, Decatur\, AL\, 35601-1970\, United States
CATEGORIES:Children,Tweens & Teens (ages 11-17)
ATTACH;FMTTYPE=image/png:https://mydpl.org/wp-content/uploads/2025/10/YS-Come-Go-Card-Crafting-BOTH.png
END:VEVENT
BEGIN:VEVENT
DTSTART;TZID=America/Chicago:20251124T100000
DTEND;TZID=America/Chicago:20251124T120000
DTSTAMP:20260422T035246
CREATED:20251022T171333Z
LAST-MODIFIED:20251022T171333Z
UID:10001447-1763978400-1763985600@mydpl.org
SUMMARY:LEGO Morning
DESCRIPTION:Kids of all ages are welcome to come-and-go to build something fantastic with our LEGO® bricks!
URL:https://mydpl.org/event/lego-morning-7/
LOCATION:DPL Youth Services room\, 504 Cherry Street Northeast\, Decatur\, AL\, 35601-1970\, United States
CATEGORIES:Children,Tweens & Teens (ages 11-17)
ATTACH;FMTTYPE=image/png:https://mydpl.org/wp-content/uploads/2025/10/YS-LEGO-Morning-24NOV.png
END:VEVENT
BEGIN:VEVENT
DTSTART;TZID=America/Chicago:20251125T110000
DTEND;TZID=America/Chicago:20251125T113000
DTSTAMP:20260422T035246
CREATED:20251022T171940Z
LAST-MODIFIED:20251022T171940Z
UID:10001449-1764068400-1764070200@mydpl.org
SUMMARY:Special Guest Story Time: Dino Safari!
DESCRIPTION:Come and close out DINOvember with some fun dinosaur  stories and a coloring sheet. Dress for a safari or wear your dino gear (optional\, of course)! \nOur Dino Safari Guide will appear courtesy of Magical Memories AL.
URL:https://mydpl.org/event/special-guest-story-time-dino-safari/
LOCATION:DPL Youth Services room\, 504 Cherry Street Northeast\, Decatur\, AL\, 35601-1970\, United States
CATEGORIES:Babies & their caregivers,Children,Family Programming,Tweens & Teens (ages 11-17)
ATTACH;FMTTYPE=image/png:https://mydpl.org/wp-content/uploads/2025/10/YS-Special-Guest-Story-Time-25NOV.png
END:VEVENT
BEGIN:VEVENT
DTSTART;TZID=America/Chicago:20251126T103000
DTEND;TZID=America/Chicago:20251126T110000
DTSTAMP:20260422T035246
CREATED:20251022T170942Z
LAST-MODIFIED:20251022T170942Z
UID:10001445-1764153000-1764154800@mydpl.org
SUMMARY:Family Story Time: Turkey
DESCRIPTION:When we have a week shortened by a holiday\, we combine our Story Time and Book Babies programs into one Family Story Time!  All ages are welcome for stories\, songs and fun\, all surrounding a theme.
URL:https://mydpl.org/event/family-story-time-turkey/
LOCATION:DPL Youth Services room\, 504 Cherry Street Northeast\, Decatur\, AL\, 35601-1970\, United States
CATEGORIES:Babies & their caregivers,Children,Family Programming,Tweens & Teens (ages 11-17)
ATTACH;FMTTYPE=image/png:https://mydpl.org/wp-content/uploads/2025/10/YS-Family-Story-Time-26NOV.png
END:VEVENT
BEGIN:VEVENT
DTSTART;TZID=America/Chicago:20251202T103000
DTEND;TZID=America/Chicago:20251202T110000
DTSTAMP:20260422T035246
CREATED:20251121T215247Z
LAST-MODIFIED:20251121T215247Z
UID:10001455-1764671400-1764673200@mydpl.org
SUMMARY:Story Time: Santa
DESCRIPTION:Story Time is designed for preschool children.  We say poems and read stories.  All are welcome!
URL:https://mydpl.org/event/story-time-santa/
LOCATION:Decatur Public Library Youth Services Room\, 504 Cherry St. NE\, Decatur
CATEGORIES:Babies & their caregivers,Children
ATTACH;FMTTYPE=image/png:https://mydpl.org/wp-content/uploads/2025/11/YS-Story-Time-2DEC.png
END:VEVENT
BEGIN:VEVENT
DTSTART;TZID=America/Chicago:20251202T163000
DTEND;TZID=America/Chicago:20251202T183000
DTSTAMP:20260422T035246
CREATED:20251107T192048Z
LAST-MODIFIED:20251107T192048Z
UID:10001453-1764693000-1764700200@mydpl.org
SUMMARY:DPL OUTREACH: Cocoa in MoCo
DESCRIPTION:FREE EVENT\nJoin us for a heartwarming holiday event\, Cocoa in MoCo! \nCelebrate the season with festive activities for all ages\, including:\n– Holiday Cookies & Hot Cocoa to enjoy\n– Ornament Making & Christmas Crafts for the kids\n– Letters to Santa to send off your wish list\n– Photos with Santa ($5 Donation) All donations go to providing Christmas for a Hospitality Front Line Worker in need this Season. \nPlease register to insure we have enough cocoa and crafts for everyone!\nAfter all the fun\, gather ’round as Santa Claus reads the beloved children’s book\, Good Night Decatur\, at 5:30 PM. It’s the perfect way to create lasting holiday memories with your family and spread some Christmas cheer! \nDate: December 2nd\, 2025\nTime: 4:30 – 6:30 PM\nLocation: 350 Market St. Decatur Alabama 35802\nPhotos with Santa: 4:30pm-5:30pm; 5:45pm- 6:30pm\nSanta’s Storytime: 5:30-5:45pm \nRegister: https://docs.google.com/forms/d/e/1FAIpQLScNp6ISWoDl7qReRibWWKRcjGjTdTLcyPeJ4uzzOqhEBBz1vA/viewform?usp=sharing&ouid=104456905706261274631 \n  \n 
URL:https://mydpl.org/event/dpl-outreach-cocoa-in-moco/
LOCATION:Tourism\, 350 Market St.\, Decatur\, Alabama\, 35802
CATEGORIES:Adults,Babies & their caregivers,Children,Family Programming,Tweens & Teens (ages 11-17)
ATTACH;FMTTYPE=image/png:https://mydpl.org/wp-content/uploads/2025/11/OUTREACH-Cocoa-in-MoCo-2DEC.png
END:VEVENT
BEGIN:VEVENT
DTSTART;TZID=America/Chicago:20251203T160000
DTEND;TZID=America/Chicago:20251203T170000
DTSTAMP:20260422T035246
CREATED:20251121T215629Z
LAST-MODIFIED:20251121T215629Z
UID:10001457-1764777600-1764781200@mydpl.org
SUMMARY:Youth Book Club: Historical Fiction
DESCRIPTION:Kids ages 8+ are invited to this book club just for kids! \nRead a book of historical fiction\, set in the 1900s or before\, to discuss in this month’s meeting. \n  \n 
URL:https://mydpl.org/event/youth-book-club-historical-fiction/
LOCATION:Story Hour Room\, 504 Cherry Street Northeast\, Decatur\, AL\, 35601-1970\, United States
CATEGORIES:Children,Tweens & Teens (ages 11-17)
ATTACH;FMTTYPE=image/png:https://mydpl.org/wp-content/uploads/2025/11/YS-Youth-Book-Club-3DEC.png
END:VEVENT
BEGIN:VEVENT
DTSTART;TZID=America/Chicago:20251204T160000
DTEND;TZID=America/Chicago:20251204T170000
DTSTAMP:20260422T035246
CREATED:20251121T223106Z
LAST-MODIFIED:20251121T223106Z
UID:10001458-1764864000-1764867600@mydpl.org
SUMMARY:Santa Meet & Greet
DESCRIPTION:Come and meet Santa!  You can do an activity while waiting your turn to take your picture with him.  This program is free and everyone is welcome!
URL:https://mydpl.org/event/santa-meet-greet/
LOCATION:Decatur Public Library Youth Services Room\, 504 Cherry St. NE\, Decatur
CATEGORIES:Adults,Babies & their caregivers,Children,Family Programming,Tweens & Teens (ages 11-17)
ATTACH;FMTTYPE=image/png:https://mydpl.org/wp-content/uploads/2025/11/YS-Santa-Meet-Greet-4DEC.png
END:VEVENT
BEGIN:VEVENT
DTSTART;TZID=America/Chicago:20251209T103000
DTEND;TZID=America/Chicago:20251209T110000
DTSTAMP:20260422T035246
CREATED:20251121T230536Z
LAST-MODIFIED:20251121T230536Z
UID:10001460-1765276200-1765278000@mydpl.org
SUMMARY:Story Time: Reindeer
DESCRIPTION:Story Time is designed for preschool children.  We say poems and read stories.  All are welcome!
URL:https://mydpl.org/event/story-time-reindeer/
LOCATION:Decatur Public Library Youth Services Room\, 504 Cherry St. NE\, Decatur
CATEGORIES:Children
ATTACH;FMTTYPE=image/png:https://mydpl.org/wp-content/uploads/2025/11/YS-Story-Time-9DEC.png
END:VEVENT
BEGIN:VEVENT
DTSTART;TZID=America/Chicago:20251211T160000
DTEND;TZID=America/Chicago:20251211T170000
DTSTAMP:20260422T035246
CREATED:20251121T231134Z
LAST-MODIFIED:20251121T231134Z
UID:10001462-1765468800-1765472400@mydpl.org
SUMMARY:LEGO Hour: Christmas
DESCRIPTION:Kids of all ages can build something with a Christmas theme using our collection of LEGO® bricks.  All are welcome! \n*In the Community Room* \n 
URL:https://mydpl.org/event/lego-hour-christmas/
LOCATION:DPL Community Room\, 504 Cherry St.\, NE\, Decatur\, 35601\, United States
CATEGORIES:Children,Tweens & Teens (ages 11-17)
ATTACH;FMTTYPE=image/png:https://mydpl.org/wp-content/uploads/2025/11/YS-LEGO-Hour-11DEC.png
END:VEVENT
BEGIN:VEVENT
DTSTART;TZID=America/Chicago:20251212T154500
DTEND;TZID=America/Chicago:20251212T163000
DTSTAMP:20260422T035246
CREATED:20251121T231521Z
LAST-MODIFIED:20251121T231521Z
UID:10001463-1765554300-1765557000@mydpl.org
SUMMARY:
DESCRIPTION:Calling all Swifties!  Join us for a celebration of the one and only Taylor Allison Swift’s birthday.   \nWe will have an “Enchanted” story time\, a “Fearless” dance party\, and make a “Timeless” friendship bracelet. Feel free to bring friendship bracelets to trade. “I Wish You Would” join us for this fun party! \nCourtesy of Magical Memories AL.  \n 
URL:https://mydpl.org/event/20272/
LOCATION:Decatur Public Library Youth Services Room\, 504 Cherry St. NE\, Decatur
CATEGORIES:Children,Tweens & Teens (ages 11-17)
ATTACH;FMTTYPE=image/png:https://mydpl.org/wp-content/uploads/2025/11/YS-Taylor-Swift-Birthday-Party-12DEC.png
END:VEVENT
BEGIN:VEVENT
DTSTART;TZID=America/Chicago:20251216T103000
DTEND;TZID=America/Chicago:20251216T110000
DTSTAMP:20260422T035246
CREATED:20251121T231747Z
LAST-MODIFIED:20251121T231747Z
UID:10001464-1765881000-1765882800@mydpl.org
SUMMARY:Story Time: Elves
DESCRIPTION:Story Time is designed for preschool children.  We say poems and read stories.  All are welcome!
URL:https://mydpl.org/event/story-time-elves/
LOCATION:Decatur Public Library Youth Services Room\, 504 Cherry St. NE\, Decatur
CATEGORIES:Children
ATTACH;FMTTYPE=image/png:https://mydpl.org/wp-content/uploads/2025/11/YS-Story-Time-16DEC.png
END:VEVENT
BEGIN:VEVENT
DTSTART;TZID=America/Chicago:20251219T090000
DTEND;TZID=America/Chicago:20260131T170000
DTSTAMP:20260422T035246
CREATED:20251219T210813Z
LAST-MODIFIED:20251219T210813Z
UID:10001501-1766134800-1769878800@mydpl.org
SUMMARY:DPL's StoryWalk at Wheeler National Wildlife Refuge
DESCRIPTION:Take a walk on the Atkeson Cypress Trail and read Together written by Isabel Otter and Illustrated by Clover Robin. \nAvailable during Refuge open hours: Tuesday – Saturday\, 9:00am – 5:00pm  CLOSED: Christmas Day & New Year’s Day \nThe StoryWalk® Project was created by Anne Ferguson and developed in collaboration with the Kellogg-Hubbard Library in Montpelier Vermont. Storywalk® is a registered service mark owned by the Kellogg-Hubbard Library.  \n  \n 
URL:https://mydpl.org/event/dpls-storywalk-at-wheeler-national-wildlife-refuge/
LOCATION:Wheeler National Wildlife Refuge\, 3121 Visitor Center Road\, Decatur\, AL\, 35603\, United States
CATEGORIES:Adults,Babies & their caregivers,Children,Family Programming,Festival of the Cranes at DPL,Tweens & Teens (ages 11-17)
ATTACH;FMTTYPE=image/png:https://mydpl.org/wp-content/uploads/2025/12/FoC-StoryWalk.png
END:VEVENT
BEGIN:VEVENT
DTSTART;TZID=America/Chicago:20251219T150000
DTEND;TZID=America/Chicago:20251219T160000
DTSTAMP:20260422T035246
CREATED:20251121T232414Z
LAST-MODIFIED:20251121T232437Z
UID:10001466-1766156400-1766160000@mydpl.org
SUMMARY:Special Guest Story Time: Cindy Lou Who
DESCRIPTION:Direct from Whoville!  Come and listen to a story\, do a craft\, and take your picture with Cindy Lou Who! \nCindy Lou Who  appears courtesy of Magical Memories AL.  \n  \n 
URL:https://mydpl.org/event/20281/
LOCATION:Decatur Public Library Youth Services Room\, 504 Cherry St. NE\, Decatur
CATEGORIES:Babies & their caregivers,Children,Tweens & Teens (ages 11-17)
ATTACH;FMTTYPE=image/png:https://mydpl.org/wp-content/uploads/2025/11/YS-Special-Guest-Story-Time-19DEC.png
END:VEVENT
BEGIN:VEVENT
DTSTART;TZID=America/Chicago:20251222T100000
DTEND;TZID=America/Chicago:20251222T120000
DTSTAMP:20260422T035246
CREATED:20251121T233100Z
LAST-MODIFIED:20251121T233100Z
UID:10001468-1766397600-1766404800@mydpl.org
SUMMARY:LEGO Morning
DESCRIPTION:Kids of all ages are welcome to come-and-go to build something fantastic with our LEGO® bricks!
URL:https://mydpl.org/event/lego-morning-9/
LOCATION:Decatur Public Library Youth Services Room\, 504 Cherry St. NE\, Decatur
CATEGORIES:Children,Tweens & Teens (ages 11-17)
ATTACH;FMTTYPE=image/png:https://mydpl.org/wp-content/uploads/2025/11/YS-LEGO-Morning-22DEC.png
END:VEVENT
BEGIN:VEVENT
DTSTART;TZID=America/Chicago:20251223T103000
DTEND;TZID=America/Chicago:20251223T110000
DTSTAMP:20260422T035246
CREATED:20251121T232758Z
LAST-MODIFIED:20251121T232919Z
UID:10001467-1766485800-1766487600@mydpl.org
SUMMARY:Family Story Time: Christmas
DESCRIPTION:When we have a week shortened by a holiday\, we combine our Story Time and Book Babies programs into one Family Story Time!  All ages are welcome for stories\, songs and fun\, all surrounding a theme. This month we’ll be talking about Christmas. \n 
URL:https://mydpl.org/event/family-story-time-christmas/
LOCATION:Decatur Public Library Youth Services Room\, 504 Cherry St. NE\, Decatur
CATEGORIES:Babies & their caregivers,Children,Tweens & Teens (ages 11-17)
ATTACH;FMTTYPE=image/png:https://mydpl.org/wp-content/uploads/2025/11/YS-Family-Story-Time-23DEC.png
END:VEVENT
BEGIN:VEVENT
DTSTART;TZID=America/Chicago:20251231T113000
DTEND;TZID=America/Chicago:20251231T120000
DTSTAMP:20260422T035246
CREATED:20251121T233348Z
LAST-MODIFIED:20251121T233348Z
UID:10001469-1767180600-1767182400@mydpl.org
SUMMARY:Noon Year's Eve Party
DESCRIPTION:Join us for a Story Time\, balloon drop\, a craft & coloring sheet to celebrate the New Year!
URL:https://mydpl.org/event/noon-years-eve-party/
LOCATION:Decatur Public Library Youth Services Room\, 504 Cherry St. NE\, Decatur
CATEGORIES:Babies & their caregivers,Children,Tweens & Teens (ages 11-17)
ATTACH;FMTTYPE=image/png:https://mydpl.org/wp-content/uploads/2025/11/YS-Noon-Years-Eve-Party-31DEC.png
END:VEVENT
BEGIN:VEVENT
DTSTART;TZID=America/Chicago:20260106T103000
DTEND;TZID=America/Chicago:20260106T110000
DTSTAMP:20260422T035246
CREATED:20251215T222711Z
LAST-MODIFIED:20251215T222711Z
UID:10001482-1767695400-1767697200@mydpl.org
SUMMARY:DPL Story Time: Letter of the Week- A a
DESCRIPTION:Story Time is designed for preschool children.  We say poems and read stories.  All are welcome! \n 
URL:https://mydpl.org/event/dpl-story-time-letter-of-the-week-a-a/
LOCATION:DPL Youth Services room\, 504 Cherry Street Northeast\, Decatur\, AL\, 35601-1970\, United States
CATEGORIES:Ages 3 - 5 & their adults,Children
ATTACH;FMTTYPE=image/png:https://mydpl.org/wp-content/uploads/2025/12/YS-Story-Time-JAN6.png
END:VEVENT
BEGIN:VEVENT
DTSTART;TZID=America/Chicago:20260108T160000
DTEND;TZID=America/Chicago:20260108T170000
DTSTAMP:20260422T035246
CREATED:20251215T224104Z
LAST-MODIFIED:20251215T224104Z
UID:10001487-1767888000-1767891600@mydpl.org
SUMMARY:LEGO Hour: Winter
DESCRIPTION:Kids of all ages can build something that is your favorite thing about winter using our collection of LEGO® bricks.  All are welcome! \n 
URL:https://mydpl.org/event/lego-hour-winter/
LOCATION:DPL Community Room\, 504 Cherry St.\, NE\, Decatur\, 35601\, United States
CATEGORIES:Children,Tweens & Teens (ages 11-17)
ATTACH;FMTTYPE=image/png:https://mydpl.org/wp-content/uploads/2025/12/YS-LEGO-Hour-8JAN.png
END:VEVENT
BEGIN:VEVENT
DTSTART;TZID=America/Chicago:20260110T093000
DTEND;TZID=America/Chicago:20260110T103000
DTSTAMP:20260422T035246
CREATED:20251215T230910Z
LAST-MODIFIED:20251215T230910Z
UID:10001491-1768037400-1768041000@mydpl.org
SUMMARY:Festival of the Cranes at DPL: Bird Walk for Kids at Delano Park
DESCRIPTION:Ava Lyerly will lead children ages 5-18 on a bird walk at Delano Park.  This free program is for young people interested in learning about bird watching and identification. \nRSVP by emailing naybc2023@gmail.com with the number of people attending and their ages.  (Moms of families are welcome to bring their younger children and stay behind the group with “littles”\, so there is minimal noise and bird viewing is better.) \nAva is the President of the North Alabama Young Birders Club (NAYBC) in Decatur\, Alabama. \n  \n  \n 
URL:https://mydpl.org/event/festival-of-the-cranes-at-dpl-bird-walk-for-kids-at-delano-park/
LOCATION:Delano Park\, 825 Gordon Dr SE\, Decatur\, AL\, 35601\, United States
CATEGORIES:Children,Tweens & Teens (ages 11-17)
ATTACH;FMTTYPE=image/png:https://mydpl.org/wp-content/uploads/2025/12/FoC-Bird-Walk-for-Kids.png
END:VEVENT
BEGIN:VEVENT
DTSTART;TZID=America/Chicago:20260110T113000
DTEND;TZID=America/Chicago:20260110T123000
DTSTAMP:20260422T035246
CREATED:20251215T225542Z
LAST-MODIFIED:20251215T225542Z
UID:10001489-1768044600-1768048200@mydpl.org
SUMMARY:Festival of the Cranes at DPL: Trunk Goes Thunk! Story Time
DESCRIPTION:Author Heather C. Morris will read her book Trunk Goes Thunk! A Woodland Tale of Opposites and talk with kids about opposites\, forests\, and using all five senses to  explore our wide and wonderful world.  All ages are welcome to this free program.  \nMore information at www.myDPL.org/cranes. \n 
URL:https://mydpl.org/event/festival-of-the-cranes-at-dpl-trunk-goes-thunk-story-time/
LOCATION:DPL Youth Services room\, 504 Cherry Street Northeast\, Decatur\, AL\, 35601-1970\, United States
CATEGORIES:Ages 3 - 5 & their adults,Children,Children age 8+,Tweens & Teens (ages 11-17)
ATTACH;FMTTYPE=image/png:https://mydpl.org/wp-content/uploads/2025/12/FoC-Trunk-Goes-Thunk-Story-Time.png
END:VEVENT
BEGIN:VEVENT
DTSTART;TZID=America/Chicago:20260110T130000
DTEND;TZID=America/Chicago:20260110T133000
DTSTAMP:20260422T035246
CREATED:20251215T230043Z
LAST-MODIFIED:20251215T230043Z
UID:10001490-1768050000-1768051800@mydpl.org
SUMMARY:Festival of the Cranes at DPL: Free Meet & Greet with Hope
DESCRIPTION:Come and meet Hope (mascot for the International Crane Foundation)\, get your picture made with her\, or even practice your crane dance moves with her! \nMore at www.myDPL.org/cranes.
URL:https://mydpl.org/event/festival-of-the-cranes-at-dpl-free-meet-greet-with-hope/
LOCATION:Decatur Public Library-Main Area
CATEGORIES:Adults,Babies & their caregivers,Children,Children age 8+,Family Programming,Tweens & Teens (ages 11-17)
ATTACH;FMTTYPE=image/png:https://mydpl.org/wp-content/uploads/2025/12/FoC-Hope-Meet-Greet.png
END:VEVENT
BEGIN:VEVENT
DTSTART;TZID=America/Chicago:20260110T140000
DTEND;TZID=America/Chicago:20260110T150000
DTSTAMP:20260422T035246
CREATED:20251215T231612Z
LAST-MODIFIED:20251215T231612Z
UID:10001492-1768053600-1768057200@mydpl.org
SUMMARY:Festival of the Cranes at DPL: Tips for Taking Your Best Wildlife Photographs
DESCRIPTION:Professional photographer Donald Hood (Status Image Photography) will offer tips for taking your best wildlife pictures.   This program is for anyone – of any age – who wants to get the most out of their photographs.                               \nWe will also kick-off our 2026 Crane Photo Contest!
URL:https://mydpl.org/event/festival-of-the-cranes-at-dpl-tips-for-taking-your-best-wildlife-photographs/
LOCATION:DPL Community Room\, 504 Cherry St.\, NE\, Decatur\, 35601\, United States
CATEGORIES:Adults,Children,Family Programming,Teens,Tweens & Teens (ages 11-17)
ATTACH;FMTTYPE=image/png:https://mydpl.org/wp-content/uploads/2025/12/FoC-Donald-Hood-Photo-Tips.png
END:VEVENT
BEGIN:VEVENT
DTSTART;TZID=America/Chicago:20260110T142000
DTEND;TZID=America/Chicago:20260110T143000
DTSTAMP:20260422T035246
CREATED:20251215T231844Z
LAST-MODIFIED:20251215T231844Z
UID:10001493-1768054800-1768055400@mydpl.org
SUMMARY:Festival of the Cranes at DPL: Poetry Reading - "If I Were a Crane"
DESCRIPTION:Amy H. Stewart will read “If I Were a Crane”\, a poem she wrote based on the imaginative dreams of her grandsons\, Jaxton & Braxton\, about what it would be like to be a crane. \n 
URL:https://mydpl.org/event/festival-of-the-cranes-at-dpl-poetry-reading-if-i-were-a-crane/
LOCATION:DPL Youth Services room\, 504 Cherry Street Northeast\, Decatur\, AL\, 35601-1970\, United States
CATEGORIES:Adults,Babies & their caregivers,Children,Family Programming,Tweens & Teens (ages 11-17)
ATTACH;FMTTYPE=image/png:https://mydpl.org/wp-content/uploads/2025/12/FoC-Poetry-Reading.png
END:VEVENT
BEGIN:VEVENT
DTSTART;TZID=America/Chicago:20260110T143000
DTEND;TZID=America/Chicago:20260110T150000
DTSTAMP:20260422T035246
CREATED:20251215T232255Z
LAST-MODIFIED:20251215T232255Z
UID:10001494-1768055400-1768057200@mydpl.org
SUMMARY:Festival of the Cranes at DPL: Quail Story Time
DESCRIPTION:Jessie Douglas Taylor\, Farm Bill Biologist II with Pheasants Forever\, Inc. and Quail Forever\, will read Dale the Quail and the Rainbow Serenade for kids of all ages.
URL:https://mydpl.org/event/festival-of-the-cranes-at-dpl-quail-story-time/
LOCATION:DPL Youth Services room\, 504 Cherry Street Northeast\, Decatur\, AL\, 35601-1970\, United States
CATEGORIES:Adults,Children,Family Programming,Tweens & Teens (ages 11-17)
ATTACH;FMTTYPE=image/png:https://mydpl.org/wp-content/uploads/2025/12/FoC-Quail-Story-Time.png
END:VEVENT
BEGIN:VEVENT
DTSTART;TZID=America/Chicago:20260113T103000
DTEND;TZID=America/Chicago:20260113T110000
DTSTAMP:20260422T035246
CREATED:20251215T233021Z
LAST-MODIFIED:20260107T202657Z
UID:10001496-1768300200-1768302000@mydpl.org
SUMMARY:Family Story Time: Snowmen
DESCRIPTION:Sometimes we combine our Story Time and Book Babies programs into one Family Story Time!  All ages are welcome for stories\, songs and fun\, all surrounding a theme.  For this session we’ll be talking about snowmen. \n 
URL:https://mydpl.org/event/family-story-time-snowmen/
LOCATION:DPL Community Room\, 504 Cherry St.\, NE\, Decatur\, 35601\, United States
CATEGORIES:Babies & their caregivers,Children,Family Programming
ATTACH;FMTTYPE=image/png:https://mydpl.org/wp-content/uploads/2025/12/YS-Family-Story-Time-13JAN-CORRECTED.png
END:VEVENT
BEGIN:VEVENT
DTSTART;TZID=America/Chicago:20260120T100000
DTEND;TZID=America/Chicago:20260120T173000
DTSTAMP:20260422T035246
CREATED:20251215T232745Z
LAST-MODIFIED:20260107T203039Z
UID:10001495-1768903200-1768930200@mydpl.org
SUMMARY:Toy Tuesday
DESCRIPTION:Stop by the Youth Services Room to play with the toys!  On Tuesday\, January 20th\, from 10am – 5:30pm\, we will have toy stations set out all around the room\, from cars to blocks to trains to puzzles; we will have something for everyone!
URL:https://mydpl.org/event/toy-tuesday/
LOCATION:DPL Community Room\, 504 Cherry St.\, NE\, Decatur\, 35601\, United States
CATEGORIES:Babies & their caregivers,Children,Tweens & Teens (ages 11-17)
ATTACH;FMTTYPE=image/png:https://mydpl.org/wp-content/uploads/2025/12/YS-Toy-Tuesday-20JAN-CORRECTED.png
END:VEVENT
BEGIN:VEVENT
DTSTART;TZID=America/Chicago:20260121T103000
DTEND;TZID=America/Chicago:20260121T110000
DTSTAMP:20260422T035246
CREATED:20251215T233349Z
LAST-MODIFIED:20260107T204412Z
UID:10001497-1768991400-1768993200@mydpl.org
SUMMARY:Family Story Time: Hugs
DESCRIPTION:When we have a week shortened by a holiday\, we combine our Story Time and Book Babies programs into one Family Story Time!  All ages are welcome for stories\, songs and fun\, all surrounding a theme. For this session we’ll be talking about hugs.
URL:https://mydpl.org/event/family-story-time-hugs/
LOCATION:DPL Community Room\, 504 Cherry St.\, NE\, Decatur\, 35601\, United States
CATEGORIES:Babies & their caregivers,Children,Family Programming
ATTACH;FMTTYPE=image/png:https://mydpl.org/wp-content/uploads/2025/12/YS-Family-Story-Time-21JAN-CORRECTED.png
END:VEVENT
BEGIN:VEVENT
DTSTART;TZID=America/Chicago:20260124T100000
DTEND;TZID=America/Chicago:20260124T120000
DTSTAMP:20260422T035246
CREATED:20251215T233752Z
LAST-MODIFIED:20260107T203920Z
UID:10001498-1769248800-1769256000@mydpl.org
SUMMARY:LEGO Morning
DESCRIPTION:Kids of all ages are welcome to come-and-go to build something fantastic with our LEGO® bricks!
URL:https://mydpl.org/event/lego-morning-8/
LOCATION:DPL Community Room\, 504 Cherry St.\, NE\, Decatur\, 35601\, United States
CATEGORIES:Children,Tweens & Teens (ages 11-17)
ATTACH;FMTTYPE=image/png:https://mydpl.org/wp-content/uploads/2025/12/YS-LEGO-Morning-24JAN-CORRECTED.png
END:VEVENT
BEGIN:VEVENT
DTSTART;TZID=America/Chicago:20260127T103000
DTEND;TZID=America/Chicago:20260127T110000
DTSTAMP:20260422T035246
CREATED:20251215T222913Z
LAST-MODIFIED:20260107T204222Z
UID:10001483-1769509800-1769511600@mydpl.org
SUMMARY:DPL Story Time: Letter of the Week - B b
DESCRIPTION:Story Time is designed for preschool children.  We say poems and read stories.  All are welcome!
URL:https://mydpl.org/event/dpl-story-time-letter-of-the-week-b-b/
LOCATION:DPL Community Room\, 504 Cherry St.\, NE\, Decatur\, 35601\, United States
CATEGORIES:Ages 3 - 5 & their adults,Children
ATTACH;FMTTYPE=image/png:https://mydpl.org/wp-content/uploads/2025/12/YS-Story-Time-JAN27-CORRECTED.png
END:VEVENT
END:VCALENDAR