BEGIN:VCALENDAR
VERSION:2.0
PRODID:-//Decatur Public Library - ECPv6.15.17.1//NONSGML v1.0//EN
CALSCALE:GREGORIAN
METHOD:PUBLISH
X-ORIGINAL-URL:https://mydpl.org
X-WR-CALDESC:Events for Decatur Public Library
REFRESH-INTERVAL;VALUE=DURATION:PT1H
X-Robots-Tag:noindex
X-PUBLISHED-TTL:PT1H
BEGIN:VTIMEZONE
TZID:America/Chicago
BEGIN:DAYLIGHT
TZOFFSETFROM:-0600
TZOFFSETTO:-0500
TZNAME:CDT
DTSTART:20250309T080000
END:DAYLIGHT
BEGIN:STANDARD
TZOFFSETFROM:-0500
TZOFFSETTO:-0600
TZNAME:CST
DTSTART:20251102T070000
END:STANDARD
BEGIN:DAYLIGHT
TZOFFSETFROM:-0600
TZOFFSETTO:-0500
TZNAME:CDT
DTSTART:20260308T080000
END:DAYLIGHT
BEGIN:STANDARD
TZOFFSETFROM:-0500
TZOFFSETTO:-0600
TZNAME:CST
DTSTART:20261101T070000
END:STANDARD
BEGIN:DAYLIGHT
TZOFFSETFROM:-0600
TZOFFSETTO:-0500
TZNAME:CDT
DTSTART:20270314T080000
END:DAYLIGHT
BEGIN:STANDARD
TZOFFSETFROM:-0500
TZOFFSETTO:-0600
TZNAME:CST
DTSTART:20271107T070000
END:STANDARD
END:VTIMEZONE
BEGIN:VEVENT
DTSTART;TZID=America/Chicago:20260304T103000
DTEND;TZID=America/Chicago:20260304T110000
DTSTAMP:20260422T033018
CREATED:20260209T233434Z
LAST-MODIFIED:20260209T233434Z
UID:10001623-1772620200-1772622000@mydpl.org
SUMMARY:Book Babies: Letter of the Week - V v
DESCRIPTION:Book Babies is story time for babies from birth to age 3 and their adults. We do bouncing rhymes and sing songs! \n 
URL:https://mydpl.org/event/book-babies-letter-of-the-week-v-v/
LOCATION:DPL Youth Services room\, 504 Cherry Street Northeast\, Decatur\, AL\, 35601-1970\, United States
CATEGORIES:Babies & their caregivers
ATTACH;FMTTYPE=image/png:https://mydpl.org/wp-content/uploads/2026/02/YS-Book-Babies-4MAR.png
END:VEVENT
BEGIN:VEVENT
DTSTART;TZID=America/Chicago:20260311T103000
DTEND;TZID=America/Chicago:20260311T110000
DTSTAMP:20260422T033018
CREATED:20260209T233723Z
LAST-MODIFIED:20260209T233723Z
UID:10001624-1773225000-1773226800@mydpl.org
SUMMARY:Book Babies: Letter of the Week - W w
DESCRIPTION:Book Babies is story time for babies from birth to age 3 and their adults. We do bouncing rhymes and sing songs! \n 
URL:https://mydpl.org/event/book-babies-letter-of-the-week-w-w/
LOCATION:DPL Youth Services room\, 504 Cherry Street Northeast\, Decatur\, AL\, 35601-1970\, United States
CATEGORIES:Babies & their caregivers
ATTACH;FMTTYPE=image/png:https://mydpl.org/wp-content/uploads/2026/02/YS-Book-Babies-11MAR.png
END:VEVENT
BEGIN:VEVENT
DTSTART;TZID=America/Chicago:20260316T100000
DTEND;TZID=America/Chicago:20260316T173000
DTSTAMP:20260422T033018
CREATED:20260209T235409Z
LAST-MODIFIED:20260209T235409Z
UID:10001629-1773655200-1773682200@mydpl.org
SUMMARY:Monday Toy Day
DESCRIPTION:Stop by the and play with the toys!   \nToys will be out all day for you to come and play as you have time.  We will have everything from blocks to trains to cars to LEGOs and more!
URL:https://mydpl.org/event/monday-toy-day/
LOCATION:DPL Youth Services room\, 504 Cherry Street Northeast\, Decatur\, AL\, 35601-1970\, United States
CATEGORIES:Babies & their caregivers,Children
ATTACH;FMTTYPE=image/png:https://mydpl.org/wp-content/uploads/2026/02/YS-Monday-Toy-Day-16MAR.png
END:VEVENT
BEGIN:VEVENT
DTSTART;TZID=America/Chicago:20260319T090000
DTEND;TZID=America/Chicago:20260319T120000
DTSTAMP:20260422T033018
CREATED:20260226T163607Z
LAST-MODIFIED:20260226T165411Z
UID:10001635-1773910800-1773921600@mydpl.org
SUMMARY:Day in the Park at Delano: All About Birds & Trees
DESCRIPTION:9am – Bird Walk for all ages with Ava Lyerly of the North Alabama Young Birders Club \n10am – Story Time with Ms. Zoie from DPL \n10:30am – 11:30am:  4-H Science School Raptor Trek program \nPhoto opp with Tansy the Meadow Princess (from Magical Memories AL) \nEducational tables from the Leave No Trace\, the \nInternational Crane Foundation\, and North Alabama Young Birders Club \nLearn about trees with DPL’s scavenger hunt and the Tree Lady (sponsored by Delano Park Conservancy) \nand free books for kids from DPL! \nIn the event of rain\, all events will take place at DPL.  \n 
URL:https://mydpl.org/event/day-in-the-park-at-delano-all-about-birds-trees/
LOCATION:Delano Park\, 825 Gordon Dr SE\, Decatur\, AL\, 35601\, United States
CATEGORIES:Adults,Babies & their caregivers,Children,Family Programming,Teens,Tweens & Teens (ages 11-17)
ATTACH;FMTTYPE=image/png:https://mydpl.org/wp-content/uploads/2026/02/Day-in-the-Park-at-Delano-MAR2026.png
END:VEVENT
BEGIN:VEVENT
DTSTART;TZID=America/Chicago:20260325T103000
DTEND;TZID=America/Chicago:20260325T110000
DTSTAMP:20260422T033018
CREATED:20260209T234333Z
LAST-MODIFIED:20260209T234333Z
UID:10001626-1774434600-1774436400@mydpl.org
SUMMARY:Book Babies: Letter of the Week - Y y
DESCRIPTION:Book Babies is story time for babies from birth to age 3 and their adults. We do bouncing rhymes and sing songs!
URL:https://mydpl.org/event/book-babies-letter-of-the-week-y-y/
LOCATION:DPL Youth Services room\, 504 Cherry Street Northeast\, Decatur\, AL\, 35601-1970\, United States
CATEGORIES:Babies & their caregivers
ATTACH;FMTTYPE=image/png:https://mydpl.org/wp-content/uploads/2026/02/YS-Book-Babies-25MAR-1.png
END:VEVENT
BEGIN:VEVENT
DTSTART;TZID=America/Chicago:20260328T140000
DTEND;TZID=America/Chicago:20260328T143000
DTSTAMP:20260422T033018
CREATED:20260210T213320Z
LAST-MODIFIED:20260210T213320Z
UID:10001632-1774706400-1774708200@mydpl.org
SUMMARY:Saturday Story Time
DESCRIPTION:Can’t make it to Story Time during the week?  Join us for this special Saturday edition! We’ll read some award-winning books\, learn some poems\, and have a crafty activity. \n 
URL:https://mydpl.org/event/saturday-story-time/
LOCATION:DPL Youth Services room\, 504 Cherry Street Northeast\, Decatur\, AL\, 35601-1970\, United States
CATEGORIES:Babies & their caregivers,Children,Family Programming
ATTACH;FMTTYPE=image/png:https://mydpl.org/wp-content/uploads/2026/02/YS-Saturday-Story-Time-28MAR.png
END:VEVENT
END:VCALENDAR