BEGIN:VCALENDAR
VERSION:2.0
PRODID:-//Decatur Public Library - ECPv6.15.17.1//NONSGML v1.0//EN
CALSCALE:GREGORIAN
METHOD:PUBLISH
X-WR-CALNAME:Decatur Public Library
X-ORIGINAL-URL:https://mydpl.org
X-WR-CALDESC:Events for Decatur Public Library
REFRESH-INTERVAL;VALUE=DURATION:PT1H
X-Robots-Tag:noindex
X-PUBLISHED-TTL:PT1H
BEGIN:VTIMEZONE
TZID:America/Chicago
BEGIN:DAYLIGHT
TZOFFSETFROM:-0600
TZOFFSETTO:-0500
TZNAME:CDT
DTSTART:20240310T080000
END:DAYLIGHT
BEGIN:STANDARD
TZOFFSETFROM:-0500
TZOFFSETTO:-0600
TZNAME:CST
DTSTART:20241103T070000
END:STANDARD
BEGIN:DAYLIGHT
TZOFFSETFROM:-0600
TZOFFSETTO:-0500
TZNAME:CDT
DTSTART:20250309T080000
END:DAYLIGHT
BEGIN:STANDARD
TZOFFSETFROM:-0500
TZOFFSETTO:-0600
TZNAME:CST
DTSTART:20251102T070000
END:STANDARD
BEGIN:DAYLIGHT
TZOFFSETFROM:-0600
TZOFFSETTO:-0500
TZNAME:CDT
DTSTART:20260308T080000
END:DAYLIGHT
BEGIN:STANDARD
TZOFFSETFROM:-0500
TZOFFSETTO:-0600
TZNAME:CST
DTSTART:20261101T070000
END:STANDARD
BEGIN:DAYLIGHT
TZOFFSETFROM:-0600
TZOFFSETTO:-0500
TZNAME:CDT
DTSTART:20270314T080000
END:DAYLIGHT
BEGIN:STANDARD
TZOFFSETFROM:-0500
TZOFFSETTO:-0600
TZNAME:CST
DTSTART:20271107T070000
END:STANDARD
END:VTIMEZONE
BEGIN:VEVENT
DTSTART;TZID=America/Chicago:20260218T130000
DTEND;TZID=America/Chicago:20260218T170000
DTSTAMP:20260421T141434
CREATED:20260129T173915Z
LAST-MODIFIED:20260129T173915Z
UID:10001528-1771419600-1771434000@mydpl.org
SUMMARY:FREE Tax Help
DESCRIPTION:Free tax preparation assistance is provided by the R.S.V.P. volunteers in DPL’s Training Center. \n*BY APPOINTMENT ONLY* \nCall 256-232-7207 to make your appointment.
URL:https://mydpl.org/event/free-tax-help/2026-02-18/
LOCATION:DPL Training Center\, 504 Cherry Street NE\, Decatur\, AL
CATEGORIES:Adults
ATTACH;FMTTYPE=image/png:https://mydpl.org/wp-content/uploads/2026/01/Tax-Help-2026-1-e1769708321377.png
END:VEVENT
BEGIN:VEVENT
DTSTART;TZID=America/Chicago:20260216T130000
DTEND;TZID=America/Chicago:20260216T170000
DTSTAMP:20260421T141434
CREATED:20260129T173915Z
LAST-MODIFIED:20260129T173915Z
UID:10001527-1771246800-1771261200@mydpl.org
SUMMARY:FREE Tax Help
DESCRIPTION:Free tax preparation assistance is provided by the R.S.V.P. volunteers in DPL’s Training Center. \n*BY APPOINTMENT ONLY* \nCall 256-232-7207 to make your appointment.
URL:https://mydpl.org/event/free-tax-help/2026-02-16/
LOCATION:DPL Training Center\, 504 Cherry Street NE\, Decatur\, AL
CATEGORIES:Adults
ATTACH;FMTTYPE=image/png:https://mydpl.org/wp-content/uploads/2026/01/Tax-Help-2026-1-e1769708321377.png
END:VEVENT
BEGIN:VEVENT
DTSTART;TZID=America/Chicago:20260214T100000
DTEND;TZID=America/Chicago:20260214T140000
DTSTAMP:20260421T141434
CREATED:20260129T174200Z
LAST-MODIFIED:20260129T174200Z
UID:10001580-1771063200-1771077600@mydpl.org
SUMMARY:FREE Tax Help
DESCRIPTION:Free tax preparation assistance is provided by the R.S.V.P. volunteers in DPL’s Training Center. \n*BY APPOINTMENT ONLY* \nCall 256-232-7207 to make your appointment.
URL:https://mydpl.org/event/free-tax-help-2/2026-02-14/
LOCATION:DPL Training Center\, 504 Cherry Street NE\, Decatur\, AL
CATEGORIES:Adults
ATTACH;FMTTYPE=image/png:https://mydpl.org/wp-content/uploads/2026/01/Tax-Help-2026-1-e1769708321377.png
END:VEVENT
BEGIN:VEVENT
DTSTART;TZID=America/Chicago:20260212T130000
DTEND;TZID=America/Chicago:20260212T170000
DTSTAMP:20260421T141434
CREATED:20260129T173915Z
LAST-MODIFIED:20260129T173915Z
UID:10001526-1770901200-1770915600@mydpl.org
SUMMARY:FREE Tax Help
DESCRIPTION:Free tax preparation assistance is provided by the R.S.V.P. volunteers in DPL’s Training Center. \n*BY APPOINTMENT ONLY* \nCall 256-232-7207 to make your appointment.
URL:https://mydpl.org/event/free-tax-help/2026-02-12/
LOCATION:DPL Training Center\, 504 Cherry Street NE\, Decatur\, AL
CATEGORIES:Adults
ATTACH;FMTTYPE=image/png:https://mydpl.org/wp-content/uploads/2026/01/Tax-Help-2026-1-e1769708321377.png
END:VEVENT
BEGIN:VEVENT
DTSTART;TZID=America/Chicago:20260211T130000
DTEND;TZID=America/Chicago:20260211T170000
DTSTAMP:20260421T141434
CREATED:20260129T173915Z
LAST-MODIFIED:20260129T173915Z
UID:10001525-1770814800-1770829200@mydpl.org
SUMMARY:FREE Tax Help
DESCRIPTION:Free tax preparation assistance is provided by the R.S.V.P. volunteers in DPL’s Training Center. \n*BY APPOINTMENT ONLY* \nCall 256-232-7207 to make your appointment.
URL:https://mydpl.org/event/free-tax-help/2026-02-11/
LOCATION:DPL Training Center\, 504 Cherry Street NE\, Decatur\, AL
CATEGORIES:Adults
ATTACH;FMTTYPE=image/png:https://mydpl.org/wp-content/uploads/2026/01/Tax-Help-2026-1-e1769708321377.png
END:VEVENT
BEGIN:VEVENT
DTSTART;TZID=America/Chicago:20260209T130000
DTEND;TZID=America/Chicago:20260209T170000
DTSTAMP:20260421T141434
CREATED:20260129T173915Z
LAST-MODIFIED:20260129T173915Z
UID:10001524-1770642000-1770656400@mydpl.org
SUMMARY:FREE Tax Help
DESCRIPTION:Free tax preparation assistance is provided by the R.S.V.P. volunteers in DPL’s Training Center. \n*BY APPOINTMENT ONLY* \nCall 256-232-7207 to make your appointment.
URL:https://mydpl.org/event/free-tax-help/2026-02-09/
LOCATION:DPL Training Center\, 504 Cherry Street NE\, Decatur\, AL
CATEGORIES:Adults
ATTACH;FMTTYPE=image/png:https://mydpl.org/wp-content/uploads/2026/01/Tax-Help-2026-1-e1769708321377.png
END:VEVENT
BEGIN:VEVENT
DTSTART;TZID=America/Chicago:20260207T100000
DTEND;TZID=America/Chicago:20260207T140000
DTSTAMP:20260421T141434
CREATED:20260129T174200Z
LAST-MODIFIED:20260129T174200Z
UID:10001579-1770458400-1770472800@mydpl.org
SUMMARY:FREE Tax Help
DESCRIPTION:Free tax preparation assistance is provided by the R.S.V.P. volunteers in DPL’s Training Center. \n*BY APPOINTMENT ONLY* \nCall 256-232-7207 to make your appointment.
URL:https://mydpl.org/event/free-tax-help-2/2026-02-07/
LOCATION:DPL Training Center\, 504 Cherry Street NE\, Decatur\, AL
CATEGORIES:Adults
ATTACH;FMTTYPE=image/png:https://mydpl.org/wp-content/uploads/2026/01/Tax-Help-2026-1-e1769708321377.png
END:VEVENT
BEGIN:VEVENT
DTSTART;TZID=America/Chicago:20260205T143000
DTEND;TZID=America/Chicago:20260205T153000
DTSTAMP:20260421T141434
CREATED:20260108T174958Z
LAST-MODIFIED:20260108T174958Z
UID:10001502-1770301800-1770305400@mydpl.org
SUMMARY:Discovering Mary Katharine Goddard
DESCRIPTION:presented by author Betty Bolté \nDiscover the woman who printed the first edition of the Declaration of Independence with the names of the signers.  The Continental Congress commissioned this edition in 1777.   She signed her name to the bottom of the document as the printer.  Come learn about the person behind the persona of Mary Katharine Goddard.
URL:https://mydpl.org/event/discovering-mary-katharine-goddard/
LOCATION:DPL Community Room\, 504 Cherry St.\, NE\, Decatur\, 35601\, United States
CATEGORIES:Adults
ATTACH;FMTTYPE=image/png:https://mydpl.org/wp-content/uploads/2026/01/Betty-Bolte-5Feb2026-1.png
END:VEVENT
BEGIN:VEVENT
DTSTART;TZID=America/Chicago:20260205T130000
DTEND;TZID=America/Chicago:20260205T170000
DTSTAMP:20260421T141434
CREATED:20260129T173915Z
LAST-MODIFIED:20260129T173915Z
UID:10001523-1770296400-1770310800@mydpl.org
SUMMARY:FREE Tax Help
DESCRIPTION:Free tax preparation assistance is provided by the R.S.V.P. volunteers in DPL’s Training Center. \n*BY APPOINTMENT ONLY* \nCall 256-232-7207 to make your appointment.
URL:https://mydpl.org/event/free-tax-help/2026-02-05/
LOCATION:DPL Training Center\, 504 Cherry Street NE\, Decatur\, AL
CATEGORIES:Adults
ATTACH;FMTTYPE=image/png:https://mydpl.org/wp-content/uploads/2026/01/Tax-Help-2026-1-e1769708321377.png
END:VEVENT
BEGIN:VEVENT
DTSTART;TZID=America/Chicago:20260204T130000
DTEND;TZID=America/Chicago:20260204T170000
DTSTAMP:20260421T141434
CREATED:20260129T173915Z
LAST-MODIFIED:20260129T173915Z
UID:10001522-1770210000-1770224400@mydpl.org
SUMMARY:FREE Tax Help
DESCRIPTION:Free tax preparation assistance is provided by the R.S.V.P. volunteers in DPL’s Training Center. \n*BY APPOINTMENT ONLY* \nCall 256-232-7207 to make your appointment.
URL:https://mydpl.org/event/free-tax-help/2026-02-04/
LOCATION:DPL Training Center\, 504 Cherry Street NE\, Decatur\, AL
CATEGORIES:Adults
ATTACH;FMTTYPE=image/png:https://mydpl.org/wp-content/uploads/2026/01/Tax-Help-2026-1-e1769708321377.png
END:VEVENT
BEGIN:VEVENT
DTSTART;TZID=America/Chicago:20260202T130000
DTEND;TZID=America/Chicago:20260202T170000
DTSTAMP:20260421T141434
CREATED:20260129T173915Z
LAST-MODIFIED:20260129T173915Z
UID:10001521-1770037200-1770051600@mydpl.org
SUMMARY:FREE Tax Help
DESCRIPTION:Free tax preparation assistance is provided by the R.S.V.P. volunteers in DPL’s Training Center. \n*BY APPOINTMENT ONLY* \nCall 256-232-7207 to make your appointment.
URL:https://mydpl.org/event/free-tax-help/2026-02-02/
LOCATION:DPL Training Center\, 504 Cherry Street NE\, Decatur\, AL
CATEGORIES:Adults
ATTACH;FMTTYPE=image/png:https://mydpl.org/wp-content/uploads/2026/01/Tax-Help-2026-1-e1769708321377.png
END:VEVENT
BEGIN:VEVENT
DTSTART;TZID=America/Chicago:20260110T143000
DTEND;TZID=America/Chicago:20260110T150000
DTSTAMP:20260421T141434
CREATED:20251215T232255Z
LAST-MODIFIED:20251215T232255Z
UID:10001494-1768055400-1768057200@mydpl.org
SUMMARY:Festival of the Cranes at DPL: Quail Story Time
DESCRIPTION:Jessie Douglas Taylor\, Farm Bill Biologist II with Pheasants Forever\, Inc. and Quail Forever\, will read Dale the Quail and the Rainbow Serenade for kids of all ages.
URL:https://mydpl.org/event/festival-of-the-cranes-at-dpl-quail-story-time/
LOCATION:DPL Youth Services room\, 504 Cherry Street Northeast\, Decatur\, AL\, 35601-1970\, United States
CATEGORIES:Adults,Children,Family Programming,Tweens & Teens (ages 11-17)
ATTACH;FMTTYPE=image/png:https://mydpl.org/wp-content/uploads/2025/12/FoC-Quail-Story-Time.png
END:VEVENT
BEGIN:VEVENT
DTSTART;TZID=America/Chicago:20260110T142000
DTEND;TZID=America/Chicago:20260110T143000
DTSTAMP:20260421T141434
CREATED:20251215T231844Z
LAST-MODIFIED:20251215T231844Z
UID:10001493-1768054800-1768055400@mydpl.org
SUMMARY:Festival of the Cranes at DPL: Poetry Reading - "If I Were a Crane"
DESCRIPTION:Amy H. Stewart will read “If I Were a Crane”\, a poem she wrote based on the imaginative dreams of her grandsons\, Jaxton & Braxton\, about what it would be like to be a crane. \n 
URL:https://mydpl.org/event/festival-of-the-cranes-at-dpl-poetry-reading-if-i-were-a-crane/
LOCATION:DPL Youth Services room\, 504 Cherry Street Northeast\, Decatur\, AL\, 35601-1970\, United States
CATEGORIES:Adults,Babies & their caregivers,Children,Family Programming,Tweens & Teens (ages 11-17)
ATTACH;FMTTYPE=image/png:https://mydpl.org/wp-content/uploads/2025/12/FoC-Poetry-Reading.png
END:VEVENT
BEGIN:VEVENT
DTSTART;TZID=America/Chicago:20260110T140000
DTEND;TZID=America/Chicago:20260110T150000
DTSTAMP:20260421T141434
CREATED:20251215T231612Z
LAST-MODIFIED:20251215T231612Z
UID:10001492-1768053600-1768057200@mydpl.org
SUMMARY:Festival of the Cranes at DPL: Tips for Taking Your Best Wildlife Photographs
DESCRIPTION:Professional photographer Donald Hood (Status Image Photography) will offer tips for taking your best wildlife pictures.   This program is for anyone – of any age – who wants to get the most out of their photographs.                               \nWe will also kick-off our 2026 Crane Photo Contest!
URL:https://mydpl.org/event/festival-of-the-cranes-at-dpl-tips-for-taking-your-best-wildlife-photographs/
LOCATION:DPL Community Room\, 504 Cherry St.\, NE\, Decatur\, 35601\, United States
CATEGORIES:Adults,Children,Family Programming,Teens,Tweens & Teens (ages 11-17)
ATTACH;FMTTYPE=image/png:https://mydpl.org/wp-content/uploads/2025/12/FoC-Donald-Hood-Photo-Tips.png
END:VEVENT
BEGIN:VEVENT
DTSTART;TZID=America/Chicago:20260110T130000
DTEND;TZID=America/Chicago:20260110T133000
DTSTAMP:20260421T141434
CREATED:20251215T230043Z
LAST-MODIFIED:20251215T230043Z
UID:10001490-1768050000-1768051800@mydpl.org
SUMMARY:Festival of the Cranes at DPL: Free Meet & Greet with Hope
DESCRIPTION:Come and meet Hope (mascot for the International Crane Foundation)\, get your picture made with her\, or even practice your crane dance moves with her! \nMore at www.myDPL.org/cranes.
URL:https://mydpl.org/event/festival-of-the-cranes-at-dpl-free-meet-greet-with-hope/
LOCATION:Decatur Public Library-Main Area
CATEGORIES:Adults,Babies & their caregivers,Children,Children age 8+,Family Programming,Tweens & Teens (ages 11-17)
ATTACH;FMTTYPE=image/png:https://mydpl.org/wp-content/uploads/2025/12/FoC-Hope-Meet-Greet.png
END:VEVENT
BEGIN:VEVENT
DTSTART;TZID=America/Chicago:20260109T160000
DTEND;TZID=America/Chicago:20260109T170000
DTSTAMP:20260421T141434
CREATED:20251215T225049Z
LAST-MODIFIED:20251215T225049Z
UID:10001488-1767974400-1767978000@mydpl.org
SUMMARY:Festival of the Cranes at DPL: Story Time with Hope
DESCRIPTION:Hope\, mascot for the International Crane Foundation\, will present this free story time for all ages. \nMore information at www.myDPL.org/cranes.
URL:https://mydpl.org/event/festival-of-the-cranes-at-dpl-story-time-with-hope/
LOCATION:Decatur Public Library Youth Services Room\, 504 Cherry St. NE\, Decatur
CATEGORIES:Adults
ATTACH;FMTTYPE=image/png:https://mydpl.org/wp-content/uploads/2025/12/FoC-Story-Time-with-Hope.png
END:VEVENT
BEGIN:VEVENT
DTSTART;TZID=America/Chicago:20251219T090000
DTEND;TZID=America/Chicago:20260131T170000
DTSTAMP:20260421T141434
CREATED:20251219T210813Z
LAST-MODIFIED:20251219T210813Z
UID:10001501-1766134800-1769878800@mydpl.org
SUMMARY:DPL's StoryWalk at Wheeler National Wildlife Refuge
DESCRIPTION:Take a walk on the Atkeson Cypress Trail and read Together written by Isabel Otter and Illustrated by Clover Robin. \nAvailable during Refuge open hours: Tuesday – Saturday\, 9:00am – 5:00pm  CLOSED: Christmas Day & New Year’s Day \nThe StoryWalk® Project was created by Anne Ferguson and developed in collaboration with the Kellogg-Hubbard Library in Montpelier Vermont. Storywalk® is a registered service mark owned by the Kellogg-Hubbard Library.  \n  \n 
URL:https://mydpl.org/event/dpls-storywalk-at-wheeler-national-wildlife-refuge/
LOCATION:Wheeler National Wildlife Refuge\, 3121 Visitor Center Road\, Decatur\, AL\, 35603\, United States
CATEGORIES:Adults,Babies & their caregivers,Children,Family Programming,Festival of the Cranes at DPL,Tweens & Teens (ages 11-17)
ATTACH;FMTTYPE=image/png:https://mydpl.org/wp-content/uploads/2025/12/FoC-StoryWalk.png
END:VEVENT
BEGIN:VEVENT
DTSTART;TZID=America/Chicago:20251204T160000
DTEND;TZID=America/Chicago:20251204T170000
DTSTAMP:20260421T141434
CREATED:20251121T223106Z
LAST-MODIFIED:20251121T223106Z
UID:10001458-1764864000-1764867600@mydpl.org
SUMMARY:Santa Meet & Greet
DESCRIPTION:Come and meet Santa!  You can do an activity while waiting your turn to take your picture with him.  This program is free and everyone is welcome!
URL:https://mydpl.org/event/santa-meet-greet/
LOCATION:Decatur Public Library Youth Services Room\, 504 Cherry St. NE\, Decatur
CATEGORIES:Adults,Babies & their caregivers,Children,Family Programming,Tweens & Teens (ages 11-17)
ATTACH;FMTTYPE=image/png:https://mydpl.org/wp-content/uploads/2025/11/YS-Santa-Meet-Greet-4DEC.png
END:VEVENT
BEGIN:VEVENT
DTSTART;TZID=America/Chicago:20251202T163000
DTEND;TZID=America/Chicago:20251202T183000
DTSTAMP:20260421T141434
CREATED:20251107T192048Z
LAST-MODIFIED:20251107T192048Z
UID:10001453-1764693000-1764700200@mydpl.org
SUMMARY:DPL OUTREACH: Cocoa in MoCo
DESCRIPTION:FREE EVENT\nJoin us for a heartwarming holiday event\, Cocoa in MoCo! \nCelebrate the season with festive activities for all ages\, including:\n– Holiday Cookies & Hot Cocoa to enjoy\n– Ornament Making & Christmas Crafts for the kids\n– Letters to Santa to send off your wish list\n– Photos with Santa ($5 Donation) All donations go to providing Christmas for a Hospitality Front Line Worker in need this Season. \nPlease register to insure we have enough cocoa and crafts for everyone!\nAfter all the fun\, gather ’round as Santa Claus reads the beloved children’s book\, Good Night Decatur\, at 5:30 PM. It’s the perfect way to create lasting holiday memories with your family and spread some Christmas cheer! \nDate: December 2nd\, 2025\nTime: 4:30 – 6:30 PM\nLocation: 350 Market St. Decatur Alabama 35802\nPhotos with Santa: 4:30pm-5:30pm; 5:45pm- 6:30pm\nSanta’s Storytime: 5:30-5:45pm \nRegister: https://docs.google.com/forms/d/e/1FAIpQLScNp6ISWoDl7qReRibWWKRcjGjTdTLcyPeJ4uzzOqhEBBz1vA/viewform?usp=sharing&ouid=104456905706261274631 \n  \n 
URL:https://mydpl.org/event/dpl-outreach-cocoa-in-moco/
LOCATION:Tourism\, 350 Market St.\, Decatur\, Alabama\, 35802
CATEGORIES:Adults,Babies & their caregivers,Children,Family Programming,Tweens & Teens (ages 11-17)
ATTACH;FMTTYPE=image/png:https://mydpl.org/wp-content/uploads/2025/11/OUTREACH-Cocoa-in-MoCo-2DEC.png
END:VEVENT
BEGIN:VEVENT
DTSTART;TZID=America/Chicago:20251120T100000
DTEND;TZID=America/Chicago:20251121T163000
DTSTAMP:20260421T141434
CREATED:20251103T212229Z
LAST-MODIFIED:20251103T212229Z
UID:10001452-1763632800-1763742600@mydpl.org
SUMMARY:Come-and-Go Card Making for Adults
DESCRIPTION:Create holiday cards to be sent to an area nursing home or give to someone you know.   All supplies will be provided\, you just add the warm wishes and creativity!   Drop in any time to make one card or several. \nThe craft will be available on the dates and times above in the area outside the Youth Services Room\, for ages 18+ only.  (For adults who want to make cards with their children\, we have a  card-making station inside our Youth Services Room.) \n*Due to HVAC repair\,  the location may change.*
URL:https://mydpl.org/event/come-and-go-card-making-for-adults/
LOCATION:Decatur Public Library – hallway outside Marketing & Outreach\, 504 Cherry Street Northeast\, Decatur\, AL\, 35601-1970\, United States
CATEGORIES:Adults
ATTACH;FMTTYPE=image/png:https://mydpl.org/wp-content/uploads/2025/11/Come-and-go-card-making-for-adults-2025.png
END:VEVENT
BEGIN:VEVENT
DTSTART;TZID=America/Chicago:20251106T120000
DTEND;TZID=America/Chicago:20251106T140000
DTSTAMP:20260421T141434
CREATED:20251022T175405Z
LAST-MODIFIED:20251022T175405Z
UID:10001450-1762430400-1762437600@mydpl.org
SUMMARY:ARC ERAs Book Club
DESCRIPTION:
URL:https://mydpl.org/event/arc-eras-book-club/
LOCATION:DPL Community Room\, 504 Cherry St.\, NE\, Decatur\, 35601\, United States
CATEGORIES:Adults
ATTACH;FMTTYPE=image/png:https://mydpl.org/wp-content/uploads/2025/01/WEB-book-club-button-2.png
END:VEVENT
BEGIN:VEVENT
DTSTART;TZID=America/Chicago:20251030T170000
DTEND;TZID=America/Chicago:20251030T190000
DTSTAMP:20260421T141434
CREATED:20251001T223324Z
LAST-MODIFIED:20251001T223324Z
UID:10001435-1761843600-1761850800@mydpl.org
SUMMARY:OUTREACH - DFR Special Needs Spooktacular
DESCRIPTION:Decatur Fire & Rescue presents a free event for all special needs people and immediate family (caretakers). \nA night of fun with our Special Needs community.  Free hotdogs\, drinks\, pony rides\, face painting\, candy\, haunted house\, & story time.
URL:https://mydpl.org/event/outreach-dfr-special-needs-spooktacular/
LOCATION:City of Decatur Fire & Police Training Center\, 4119 Old Hwy 31\, Decatur\, AL\, 35603
CATEGORIES:Adults,Babies & their caregivers,Children,Family Programming,Tweens & Teens (ages 11-17)
ATTACH;FMTTYPE=image/png:https://mydpl.org/wp-content/uploads/2025/10/OUTREACH-DFR-Special-Needs-spooktacular-OCT2025-1.png
END:VEVENT
BEGIN:VEVENT
DTSTART;TZID=America/Chicago:20251023T163000
DTEND;TZID=America/Chicago:20251023T183000
DTSTAMP:20260421T141434
CREATED:20251001T222350Z
LAST-MODIFIED:20251001T222350Z
UID:10001434-1761237000-1761244200@mydpl.org
SUMMARY:OUTREACH - CAPNA Weatherization Day Trunk or Treat
DESCRIPTION:Community Action Partnership of North Alabama (CAPNA) celebrates  Weatherization Day  with a Trunk or Treat! \nProgram & Agency information – Community Resources – Energy Audits Exhibits – DIY Weatherization Tips – and most importantly….candy!
URL:https://mydpl.org/event/outreach-capna-weatherization-day-trunk-or-treat/
LOCATION:CAPNA\, 1909 Central Parkway SW\, Decatur\, AL\, 35601
CATEGORIES:Adults,Babies & their caregivers,Children,Family Programming,Tweens & Teens (ages 11-17)
ATTACH;FMTTYPE=image/png:https://mydpl.org/wp-content/uploads/2025/10/OUTREACH-CAPNA-Trunk-or-Treat-OCT-2025-1.png
END:VEVENT
BEGIN:VEVENT
DTSTART;TZID=America/Chicago:20251021T113000
DTEND;TZID=America/Chicago:20251021T123000
DTSTAMP:20260421T141434
CREATED:20250724T175345Z
LAST-MODIFIED:20250724T180621Z
UID:10001374-1761046200-1761049800@mydpl.org
SUMMARY:Morgan County Property Tax Explained
DESCRIPTION:Morgan County property owners can about their property taxes.  The Alabama Extension will present basic property tax information.  A representative from the Morgan County Revenue Commissioner’s office will be here to clarify and answer questions.  This free program is open to all adults and is made possible by the  Alabama Cooperative Extension System\, Auburn Extension Financial Management & the AAMU Virgina Caples Lifelong Learning Institute.
URL:https://mydpl.org/event/morgan-county-property-tax-explained/
LOCATION:DPL Community Room\, 504 Cherry St.\, NE\, Decatur\, 35601\, United States
CATEGORIES:Adults
ATTACH;FMTTYPE=image/png:https://mydpl.org/wp-content/uploads/2025/07/Property-Tax-Program-21OCT.png
END:VEVENT
END:VCALENDAR