BEGIN:VCALENDAR
VERSION:2.0
PRODID:-//Decatur Public Library - ECPv6.15.17.1//NONSGML v1.0//EN
CALSCALE:GREGORIAN
METHOD:PUBLISH
X-ORIGINAL-URL:https://mydpl.org
X-WR-CALDESC:Events for Decatur Public Library
REFRESH-INTERVAL;VALUE=DURATION:PT1H
X-Robots-Tag:noindex
X-PUBLISHED-TTL:PT1H
BEGIN:VTIMEZONE
TZID:America/Chicago
BEGIN:DAYLIGHT
TZOFFSETFROM:-0600
TZOFFSETTO:-0500
TZNAME:CDT
DTSTART:20250309T080000
END:DAYLIGHT
BEGIN:STANDARD
TZOFFSETFROM:-0500
TZOFFSETTO:-0600
TZNAME:CST
DTSTART:20251102T070000
END:STANDARD
BEGIN:DAYLIGHT
TZOFFSETFROM:-0600
TZOFFSETTO:-0500
TZNAME:CDT
DTSTART:20260308T080000
END:DAYLIGHT
BEGIN:STANDARD
TZOFFSETFROM:-0500
TZOFFSETTO:-0600
TZNAME:CST
DTSTART:20261101T070000
END:STANDARD
BEGIN:DAYLIGHT
TZOFFSETFROM:-0600
TZOFFSETTO:-0500
TZNAME:CDT
DTSTART:20270314T080000
END:DAYLIGHT
BEGIN:STANDARD
TZOFFSETFROM:-0500
TZOFFSETTO:-0600
TZNAME:CST
DTSTART:20271107T070000
END:STANDARD
END:VTIMEZONE
BEGIN:VEVENT
DTSTART;TZID=America/Chicago:20260223T130000
DTEND;TZID=America/Chicago:20260223T170000
DTSTAMP:20260421T154235
CREATED:20260129T173915Z
LAST-MODIFIED:20260129T173915Z
UID:10001530-1771851600-1771866000@mydpl.org
SUMMARY:FREE Tax Help
DESCRIPTION:Free tax preparation assistance is provided by the R.S.V.P. volunteers in DPL’s Training Center. \n*BY APPOINTMENT ONLY* \nCall 256-232-7207 to make your appointment.
URL:https://mydpl.org/event/free-tax-help/2026-02-23/
LOCATION:DPL Training Center\, 504 Cherry Street NE\, Decatur\, AL
CATEGORIES:Adults
ATTACH;FMTTYPE=image/png:https://mydpl.org/wp-content/uploads/2026/01/Tax-Help-2026-1-e1769708321377.png
END:VEVENT
BEGIN:VEVENT
DTSTART;TZID=America/Chicago:20260225T130000
DTEND;TZID=America/Chicago:20260225T170000
DTSTAMP:20260421T154235
CREATED:20260129T173915Z
LAST-MODIFIED:20260129T173915Z
UID:10001531-1772024400-1772038800@mydpl.org
SUMMARY:FREE Tax Help
DESCRIPTION:Free tax preparation assistance is provided by the R.S.V.P. volunteers in DPL’s Training Center. \n*BY APPOINTMENT ONLY* \nCall 256-232-7207 to make your appointment.
URL:https://mydpl.org/event/free-tax-help/2026-02-25/
LOCATION:DPL Training Center\, 504 Cherry Street NE\, Decatur\, AL
CATEGORIES:Adults
ATTACH;FMTTYPE=image/png:https://mydpl.org/wp-content/uploads/2026/01/Tax-Help-2026-1-e1769708321377.png
END:VEVENT
BEGIN:VEVENT
DTSTART;TZID=America/Chicago:20260226T130000
DTEND;TZID=America/Chicago:20260226T170000
DTSTAMP:20260421T154235
CREATED:20260129T173915Z
LAST-MODIFIED:20260129T173915Z
UID:10001532-1772110800-1772125200@mydpl.org
SUMMARY:FREE Tax Help
DESCRIPTION:Free tax preparation assistance is provided by the R.S.V.P. volunteers in DPL’s Training Center. \n*BY APPOINTMENT ONLY* \nCall 256-232-7207 to make your appointment.
URL:https://mydpl.org/event/free-tax-help/2026-02-26/
LOCATION:DPL Training Center\, 504 Cherry Street NE\, Decatur\, AL
CATEGORIES:Adults
ATTACH;FMTTYPE=image/png:https://mydpl.org/wp-content/uploads/2026/01/Tax-Help-2026-1-e1769708321377.png
END:VEVENT
BEGIN:VEVENT
DTSTART;TZID=America/Chicago:20260228T100000
DTEND;TZID=America/Chicago:20260228T140000
DTSTAMP:20260421T154235
CREATED:20260129T174200Z
LAST-MODIFIED:20260129T174200Z
UID:10001582-1772272800-1772287200@mydpl.org
SUMMARY:FREE Tax Help
DESCRIPTION:Free tax preparation assistance is provided by the R.S.V.P. volunteers in DPL’s Training Center. \n*BY APPOINTMENT ONLY* \nCall 256-232-7207 to make your appointment.
URL:https://mydpl.org/event/free-tax-help-2/2026-02-28/
LOCATION:DPL Training Center\, 504 Cherry Street NE\, Decatur\, AL
CATEGORIES:Adults
ATTACH;FMTTYPE=image/png:https://mydpl.org/wp-content/uploads/2026/01/Tax-Help-2026-1-e1769708321377.png
END:VEVENT
BEGIN:VEVENT
DTSTART;TZID=America/Chicago:20260228T153000
DTEND;TZID=America/Chicago:20260228T163000
DTSTAMP:20260421T154235
CREATED:20260108T175614Z
LAST-MODIFIED:20260108T175614Z
UID:10001503-1772292600-1772296200@mydpl.org
SUMMARY:Poisoning the Well Book Talk
DESCRIPTION:with Sharon Udasin  \nEnvironment reporter Sharon Udasin will present her new book\, Poisoning the Well: How Forever Chemicals Contaminated America\, which traces an ugly history of corporate greed\, military impunity and community devastation\, based on original reporting in four highly contaminated places —including Morgan and Lawrence counties. The book introduces readers to people who\, while fighting for their own lives\, take action to fix a broken regulatory system. \nThis program is made possible by the Friends of Decatur Public Library.
URL:https://mydpl.org/event/poisoning-the-well-book-talk/
LOCATION:Decatur Public Library-Main Area
CATEGORIES:Adults,Friends of Decatur Public Library event
ATTACH;FMTTYPE=image/png:https://mydpl.org/wp-content/uploads/2026/01/Poisoning-the-Well-28FEB2026.png
END:VEVENT
BEGIN:VEVENT
DTSTART;TZID=America/Chicago:20260302T130000
DTEND;TZID=America/Chicago:20260302T170000
DTSTAMP:20260421T154235
CREATED:20260129T173915Z
LAST-MODIFIED:20260129T173915Z
UID:10001533-1772456400-1772470800@mydpl.org
SUMMARY:FREE Tax Help
DESCRIPTION:Free tax preparation assistance is provided by the R.S.V.P. volunteers in DPL’s Training Center. \n*BY APPOINTMENT ONLY* \nCall 256-232-7207 to make your appointment.
URL:https://mydpl.org/event/free-tax-help/2026-03-02/
LOCATION:DPL Training Center\, 504 Cherry Street NE\, Decatur\, AL
CATEGORIES:Adults
ATTACH;FMTTYPE=image/png:https://mydpl.org/wp-content/uploads/2026/01/Tax-Help-2026-1-e1769708321377.png
END:VEVENT
BEGIN:VEVENT
DTSTART;TZID=America/Chicago:20260304T130000
DTEND;TZID=America/Chicago:20260304T170000
DTSTAMP:20260421T154235
CREATED:20260129T173915Z
LAST-MODIFIED:20260129T173915Z
UID:10001534-1772629200-1772643600@mydpl.org
SUMMARY:FREE Tax Help
DESCRIPTION:Free tax preparation assistance is provided by the R.S.V.P. volunteers in DPL’s Training Center. \n*BY APPOINTMENT ONLY* \nCall 256-232-7207 to make your appointment.
URL:https://mydpl.org/event/free-tax-help/2026-03-04/
LOCATION:DPL Training Center\, 504 Cherry Street NE\, Decatur\, AL
CATEGORIES:Adults
ATTACH;FMTTYPE=image/png:https://mydpl.org/wp-content/uploads/2026/01/Tax-Help-2026-1-e1769708321377.png
END:VEVENT
BEGIN:VEVENT
DTSTART;TZID=America/Chicago:20260305T130000
DTEND;TZID=America/Chicago:20260305T170000
DTSTAMP:20260421T154235
CREATED:20260129T173915Z
LAST-MODIFIED:20260129T173915Z
UID:10001535-1772715600-1772730000@mydpl.org
SUMMARY:FREE Tax Help
DESCRIPTION:Free tax preparation assistance is provided by the R.S.V.P. volunteers in DPL’s Training Center. \n*BY APPOINTMENT ONLY* \nCall 256-232-7207 to make your appointment.
URL:https://mydpl.org/event/free-tax-help/2026-03-05/
LOCATION:DPL Training Center\, 504 Cherry Street NE\, Decatur\, AL
CATEGORIES:Adults
ATTACH;FMTTYPE=image/png:https://mydpl.org/wp-content/uploads/2026/01/Tax-Help-2026-1-e1769708321377.png
END:VEVENT
BEGIN:VEVENT
DTSTART;TZID=America/Chicago:20260307T100000
DTEND;TZID=America/Chicago:20260307T140000
DTSTAMP:20260421T154235
CREATED:20260129T174200Z
LAST-MODIFIED:20260129T174200Z
UID:10001583-1772877600-1772892000@mydpl.org
SUMMARY:FREE Tax Help
DESCRIPTION:Free tax preparation assistance is provided by the R.S.V.P. volunteers in DPL’s Training Center. \n*BY APPOINTMENT ONLY* \nCall 256-232-7207 to make your appointment.
URL:https://mydpl.org/event/free-tax-help-2/2026-03-07/
LOCATION:DPL Training Center\, 504 Cherry Street NE\, Decatur\, AL
CATEGORIES:Adults
ATTACH;FMTTYPE=image/png:https://mydpl.org/wp-content/uploads/2026/01/Tax-Help-2026-1-e1769708321377.png
END:VEVENT
BEGIN:VEVENT
DTSTART;TZID=America/Chicago:20260309T130000
DTEND;TZID=America/Chicago:20260309T170000
DTSTAMP:20260421T154235
CREATED:20260129T173915Z
LAST-MODIFIED:20260129T173915Z
UID:10001536-1773061200-1773075600@mydpl.org
SUMMARY:FREE Tax Help
DESCRIPTION:Free tax preparation assistance is provided by the R.S.V.P. volunteers in DPL’s Training Center. \n*BY APPOINTMENT ONLY* \nCall 256-232-7207 to make your appointment.
URL:https://mydpl.org/event/free-tax-help/2026-03-09/
LOCATION:DPL Training Center\, 504 Cherry Street NE\, Decatur\, AL
CATEGORIES:Adults
ATTACH;FMTTYPE=image/png:https://mydpl.org/wp-content/uploads/2026/01/Tax-Help-2026-1-e1769708321377.png
END:VEVENT
BEGIN:VEVENT
DTSTART;TZID=America/Chicago:20260311T130000
DTEND;TZID=America/Chicago:20260311T170000
DTSTAMP:20260421T154235
CREATED:20260129T173915Z
LAST-MODIFIED:20260129T173915Z
UID:10001537-1773234000-1773248400@mydpl.org
SUMMARY:FREE Tax Help
DESCRIPTION:Free tax preparation assistance is provided by the R.S.V.P. volunteers in DPL’s Training Center. \n*BY APPOINTMENT ONLY* \nCall 256-232-7207 to make your appointment.
URL:https://mydpl.org/event/free-tax-help/2026-03-11/
LOCATION:DPL Training Center\, 504 Cherry Street NE\, Decatur\, AL
CATEGORIES:Adults
ATTACH;FMTTYPE=image/png:https://mydpl.org/wp-content/uploads/2026/01/Tax-Help-2026-1-e1769708321377.png
END:VEVENT
BEGIN:VEVENT
DTSTART;TZID=America/Chicago:20260312T130000
DTEND;TZID=America/Chicago:20260312T170000
DTSTAMP:20260421T154235
CREATED:20260129T173915Z
LAST-MODIFIED:20260129T173915Z
UID:10001538-1773320400-1773334800@mydpl.org
SUMMARY:FREE Tax Help
DESCRIPTION:Free tax preparation assistance is provided by the R.S.V.P. volunteers in DPL’s Training Center. \n*BY APPOINTMENT ONLY* \nCall 256-232-7207 to make your appointment.
URL:https://mydpl.org/event/free-tax-help/2026-03-12/
LOCATION:DPL Training Center\, 504 Cherry Street NE\, Decatur\, AL
CATEGORIES:Adults
ATTACH;FMTTYPE=image/png:https://mydpl.org/wp-content/uploads/2026/01/Tax-Help-2026-1-e1769708321377.png
END:VEVENT
BEGIN:VEVENT
DTSTART;TZID=America/Chicago:20260314T100000
DTEND;TZID=America/Chicago:20260314T140000
DTSTAMP:20260421T154235
CREATED:20260129T174200Z
LAST-MODIFIED:20260129T174200Z
UID:10001584-1773482400-1773496800@mydpl.org
SUMMARY:FREE Tax Help
DESCRIPTION:Free tax preparation assistance is provided by the R.S.V.P. volunteers in DPL’s Training Center. \n*BY APPOINTMENT ONLY* \nCall 256-232-7207 to make your appointment.
URL:https://mydpl.org/event/free-tax-help-2/2026-03-14/
LOCATION:DPL Training Center\, 504 Cherry Street NE\, Decatur\, AL
CATEGORIES:Adults
ATTACH;FMTTYPE=image/png:https://mydpl.org/wp-content/uploads/2026/01/Tax-Help-2026-1-e1769708321377.png
END:VEVENT
BEGIN:VEVENT
DTSTART;TZID=America/Chicago:20260316T130000
DTEND;TZID=America/Chicago:20260316T170000
DTSTAMP:20260421T154235
CREATED:20260129T173915Z
LAST-MODIFIED:20260129T173915Z
UID:10001539-1773666000-1773680400@mydpl.org
SUMMARY:FREE Tax Help
DESCRIPTION:Free tax preparation assistance is provided by the R.S.V.P. volunteers in DPL’s Training Center. \n*BY APPOINTMENT ONLY* \nCall 256-232-7207 to make your appointment.
URL:https://mydpl.org/event/free-tax-help/2026-03-16/
LOCATION:DPL Training Center\, 504 Cherry Street NE\, Decatur\, AL
CATEGORIES:Adults
ATTACH;FMTTYPE=image/png:https://mydpl.org/wp-content/uploads/2026/01/Tax-Help-2026-1-e1769708321377.png
END:VEVENT
BEGIN:VEVENT
DTSTART;TZID=America/Chicago:20260318T130000
DTEND;TZID=America/Chicago:20260318T170000
DTSTAMP:20260421T154235
CREATED:20260129T173915Z
LAST-MODIFIED:20260129T173915Z
UID:10001540-1773838800-1773853200@mydpl.org
SUMMARY:FREE Tax Help
DESCRIPTION:Free tax preparation assistance is provided by the R.S.V.P. volunteers in DPL’s Training Center. \n*BY APPOINTMENT ONLY* \nCall 256-232-7207 to make your appointment.
URL:https://mydpl.org/event/free-tax-help/2026-03-18/
LOCATION:DPL Training Center\, 504 Cherry Street NE\, Decatur\, AL
CATEGORIES:Adults
ATTACH;FMTTYPE=image/png:https://mydpl.org/wp-content/uploads/2026/01/Tax-Help-2026-1-e1769708321377.png
END:VEVENT
BEGIN:VEVENT
DTSTART;TZID=America/Chicago:20260319T090000
DTEND;TZID=America/Chicago:20260319T120000
DTSTAMP:20260421T154235
CREATED:20260226T163607Z
LAST-MODIFIED:20260226T165411Z
UID:10001635-1773910800-1773921600@mydpl.org
SUMMARY:Day in the Park at Delano: All About Birds & Trees
DESCRIPTION:9am – Bird Walk for all ages with Ava Lyerly of the North Alabama Young Birders Club \n10am – Story Time with Ms. Zoie from DPL \n10:30am – 11:30am:  4-H Science School Raptor Trek program \nPhoto opp with Tansy the Meadow Princess (from Magical Memories AL) \nEducational tables from the Leave No Trace\, the \nInternational Crane Foundation\, and North Alabama Young Birders Club \nLearn about trees with DPL’s scavenger hunt and the Tree Lady (sponsored by Delano Park Conservancy) \nand free books for kids from DPL! \nIn the event of rain\, all events will take place at DPL.  \n 
URL:https://mydpl.org/event/day-in-the-park-at-delano-all-about-birds-trees/
LOCATION:Delano Park\, 825 Gordon Dr SE\, Decatur\, AL\, 35601\, United States
CATEGORIES:Adults,Babies & their caregivers,Children,Family Programming,Teens,Tweens & Teens (ages 11-17)
ATTACH;FMTTYPE=image/png:https://mydpl.org/wp-content/uploads/2026/02/Day-in-the-Park-at-Delano-MAR2026.png
END:VEVENT
BEGIN:VEVENT
DTSTART;TZID=America/Chicago:20260319T130000
DTEND;TZID=America/Chicago:20260319T170000
DTSTAMP:20260421T154235
CREATED:20260129T173915Z
LAST-MODIFIED:20260129T173915Z
UID:10001541-1773925200-1773939600@mydpl.org
SUMMARY:FREE Tax Help
DESCRIPTION:Free tax preparation assistance is provided by the R.S.V.P. volunteers in DPL’s Training Center. \n*BY APPOINTMENT ONLY* \nCall 256-232-7207 to make your appointment.
URL:https://mydpl.org/event/free-tax-help/2026-03-19/
LOCATION:DPL Training Center\, 504 Cherry Street NE\, Decatur\, AL
CATEGORIES:Adults
ATTACH;FMTTYPE=image/png:https://mydpl.org/wp-content/uploads/2026/01/Tax-Help-2026-1-e1769708321377.png
END:VEVENT
BEGIN:VEVENT
DTSTART;TZID=America/Chicago:20260321T100000
DTEND;TZID=America/Chicago:20260321T140000
DTSTAMP:20260421T154235
CREATED:20260129T174200Z
LAST-MODIFIED:20260129T174200Z
UID:10001585-1774087200-1774101600@mydpl.org
SUMMARY:FREE Tax Help
DESCRIPTION:Free tax preparation assistance is provided by the R.S.V.P. volunteers in DPL’s Training Center. \n*BY APPOINTMENT ONLY* \nCall 256-232-7207 to make your appointment.
URL:https://mydpl.org/event/free-tax-help-2/2026-03-21/
LOCATION:DPL Training Center\, 504 Cherry Street NE\, Decatur\, AL
CATEGORIES:Adults
ATTACH;FMTTYPE=image/png:https://mydpl.org/wp-content/uploads/2026/01/Tax-Help-2026-1-e1769708321377.png
END:VEVENT
BEGIN:VEVENT
DTSTART;TZID=America/Chicago:20260323T130000
DTEND;TZID=America/Chicago:20260323T170000
DTSTAMP:20260421T154235
CREATED:20260129T173915Z
LAST-MODIFIED:20260129T173915Z
UID:10001542-1774270800-1774285200@mydpl.org
SUMMARY:FREE Tax Help
DESCRIPTION:Free tax preparation assistance is provided by the R.S.V.P. volunteers in DPL’s Training Center. \n*BY APPOINTMENT ONLY* \nCall 256-232-7207 to make your appointment.
URL:https://mydpl.org/event/free-tax-help/2026-03-23/
LOCATION:DPL Training Center\, 504 Cherry Street NE\, Decatur\, AL
CATEGORIES:Adults
ATTACH;FMTTYPE=image/png:https://mydpl.org/wp-content/uploads/2026/01/Tax-Help-2026-1-e1769708321377.png
END:VEVENT
BEGIN:VEVENT
DTSTART;TZID=America/Chicago:20260325T120000
DTEND;TZID=America/Chicago:20260325T130000
DTSTAMP:20260421T154235
CREATED:20260226T154156Z
LAST-MODIFIED:20260226T154156Z
UID:10001634-1774440000-1774443600@mydpl.org
SUMMARY:FYI Series: WHEN PERFECT ISN’T PEACE - How Perfectionism Fuels Anxiety and  Blocks the Spiritual Practice of Love and Forgiveness
DESCRIPTION:presented by Jetaun Bailey\, LPC-S\, CSC \nThis session will explore how perfectionism fuels anxiety through fear of failure\, shame\, and harsh self-criticism.   The goal is to provide both psychological insight and practical\, non-denominational\, spiritual tools so participants leave feeling empowered and reconnected to inner peace. \nComplete information here.
URL:https://mydpl.org/event/fyi-series-when-perfect-isnt-peace-how-perfectionism-fuels-anxiety-and-blocks-the-spiritual-practice-of-love-and-forgiveness/
LOCATION:DPL Community Room\, 504 Cherry St.\, NE\, Decatur\, 35601\, United States
CATEGORIES:Adults
ATTACH;FMTTYPE=image/png:https://mydpl.org/wp-content/uploads/2026/02/FYI-25MAR2026.png
END:VEVENT
BEGIN:VEVENT
DTSTART;TZID=America/Chicago:20260325T130000
DTEND;TZID=America/Chicago:20260325T170000
DTSTAMP:20260421T154235
CREATED:20260129T173915Z
LAST-MODIFIED:20260129T173915Z
UID:10001543-1774443600-1774458000@mydpl.org
SUMMARY:FREE Tax Help
DESCRIPTION:Free tax preparation assistance is provided by the R.S.V.P. volunteers in DPL’s Training Center. \n*BY APPOINTMENT ONLY* \nCall 256-232-7207 to make your appointment.
URL:https://mydpl.org/event/free-tax-help/2026-03-25/
LOCATION:DPL Training Center\, 504 Cherry Street NE\, Decatur\, AL
CATEGORIES:Adults
ATTACH;FMTTYPE=image/png:https://mydpl.org/wp-content/uploads/2026/01/Tax-Help-2026-1-e1769708321377.png
END:VEVENT
BEGIN:VEVENT
DTSTART;TZID=America/Chicago:20260326T130000
DTEND;TZID=America/Chicago:20260326T170000
DTSTAMP:20260421T154236
CREATED:20260129T173915Z
LAST-MODIFIED:20260129T173915Z
UID:10001544-1774530000-1774544400@mydpl.org
SUMMARY:FREE Tax Help
DESCRIPTION:Free tax preparation assistance is provided by the R.S.V.P. volunteers in DPL’s Training Center. \n*BY APPOINTMENT ONLY* \nCall 256-232-7207 to make your appointment.
URL:https://mydpl.org/event/free-tax-help/2026-03-26/
LOCATION:DPL Training Center\, 504 Cherry Street NE\, Decatur\, AL
CATEGORIES:Adults
ATTACH;FMTTYPE=image/png:https://mydpl.org/wp-content/uploads/2026/01/Tax-Help-2026-1-e1769708321377.png
END:VEVENT
BEGIN:VEVENT
DTSTART;TZID=America/Chicago:20260328T100000
DTEND;TZID=America/Chicago:20260328T140000
DTSTAMP:20260421T154236
CREATED:20260129T174200Z
LAST-MODIFIED:20260129T174200Z
UID:10001586-1774692000-1774706400@mydpl.org
SUMMARY:FREE Tax Help
DESCRIPTION:Free tax preparation assistance is provided by the R.S.V.P. volunteers in DPL’s Training Center. \n*BY APPOINTMENT ONLY* \nCall 256-232-7207 to make your appointment.
URL:https://mydpl.org/event/free-tax-help-2/2026-03-28/
LOCATION:DPL Training Center\, 504 Cherry Street NE\, Decatur\, AL
CATEGORIES:Adults
ATTACH;FMTTYPE=image/png:https://mydpl.org/wp-content/uploads/2026/01/Tax-Help-2026-1-e1769708321377.png
END:VEVENT
BEGIN:VEVENT
DTSTART;TZID=America/Chicago:20260330T130000
DTEND;TZID=America/Chicago:20260330T170000
DTSTAMP:20260421T154236
CREATED:20260129T173915Z
LAST-MODIFIED:20260129T173915Z
UID:10001545-1774875600-1774890000@mydpl.org
SUMMARY:FREE Tax Help
DESCRIPTION:Free tax preparation assistance is provided by the R.S.V.P. volunteers in DPL’s Training Center. \n*BY APPOINTMENT ONLY* \nCall 256-232-7207 to make your appointment.
URL:https://mydpl.org/event/free-tax-help/2026-03-30/
LOCATION:DPL Training Center\, 504 Cherry Street NE\, Decatur\, AL
CATEGORIES:Adults
ATTACH;FMTTYPE=image/png:https://mydpl.org/wp-content/uploads/2026/01/Tax-Help-2026-1-e1769708321377.png
END:VEVENT
BEGIN:VEVENT
DTSTART;TZID=America/Chicago:20260401T130000
DTEND;TZID=America/Chicago:20260401T170000
DTSTAMP:20260421T154236
CREATED:20260129T173915Z
LAST-MODIFIED:20260129T173915Z
UID:10001546-1775048400-1775062800@mydpl.org
SUMMARY:FREE Tax Help
DESCRIPTION:Free tax preparation assistance is provided by the R.S.V.P. volunteers in DPL’s Training Center. \n*BY APPOINTMENT ONLY* \nCall 256-232-7207 to make your appointment.
URL:https://mydpl.org/event/free-tax-help/2026-04-01/
LOCATION:DPL Training Center\, 504 Cherry Street NE\, Decatur\, AL
CATEGORIES:Adults
ATTACH;FMTTYPE=image/png:https://mydpl.org/wp-content/uploads/2026/01/Tax-Help-2026-1-e1769708321377.png
END:VEVENT
BEGIN:VEVENT
DTSTART;TZID=America/Chicago:20260402T113000
DTEND;TZID=America/Chicago:20260402T133000
DTSTAMP:20260421T154236
CREATED:20260323T153104Z
LAST-MODIFIED:20260323T153104Z
UID:10001654-1775129400-1775136600@mydpl.org
SUMMARY:OUTREACH - P.A.C.T.'s Child Abuse Prevention Month Kick-Off Event
DESCRIPTION:Gather with PACT\, their Partners in Prevention\, and the community as they launch a month dedicated to awareness\, education\, and prevention\, so that together we can build a community where every child feels protected!\n\nDPL is excited to take part in this event.  We will be issuing library cards and have giveaways for kids.  We hope you’ll  join us!
URL:https://mydpl.org/event/outreach-p-a-c-t-s-child-abuse-prevention-month-kick-off-event/
LOCATION:Morgan County/Decatur Farmers Market\, 211 1st Ave SE\, Decatur\, AL\, 35601\, United States
CATEGORIES:Adults,Babies & their caregivers,Children,Family Programming
ATTACH;FMTTYPE=image/jpeg:https://mydpl.org/wp-content/uploads/2026/03/OUTREACH-PACT-Child-Abuse-Prevntion-event.jpg
END:VEVENT
BEGIN:VEVENT
DTSTART;TZID=America/Chicago:20260402T130000
DTEND;TZID=America/Chicago:20260402T170000
DTSTAMP:20260421T154236
CREATED:20260129T173915Z
LAST-MODIFIED:20260129T173915Z
UID:10001547-1775134800-1775149200@mydpl.org
SUMMARY:FREE Tax Help
DESCRIPTION:Free tax preparation assistance is provided by the R.S.V.P. volunteers in DPL’s Training Center. \n*BY APPOINTMENT ONLY* \nCall 256-232-7207 to make your appointment.
URL:https://mydpl.org/event/free-tax-help/2026-04-02/
LOCATION:DPL Training Center\, 504 Cherry Street NE\, Decatur\, AL
CATEGORIES:Adults
ATTACH;FMTTYPE=image/png:https://mydpl.org/wp-content/uploads/2026/01/Tax-Help-2026-1-e1769708321377.png
END:VEVENT
BEGIN:VEVENT
DTSTART;TZID=America/Chicago:20260404T100000
DTEND;TZID=America/Chicago:20260404T140000
DTSTAMP:20260421T154236
CREATED:20260129T174200Z
LAST-MODIFIED:20260129T174200Z
UID:10001587-1775296800-1775311200@mydpl.org
SUMMARY:FREE Tax Help
DESCRIPTION:Free tax preparation assistance is provided by the R.S.V.P. volunteers in DPL’s Training Center. \n*BY APPOINTMENT ONLY* \nCall 256-232-7207 to make your appointment.
URL:https://mydpl.org/event/free-tax-help-2/2026-04-04/
LOCATION:DPL Training Center\, 504 Cherry Street NE\, Decatur\, AL
CATEGORIES:Adults
ATTACH;FMTTYPE=image/png:https://mydpl.org/wp-content/uploads/2026/01/Tax-Help-2026-1-e1769708321377.png
END:VEVENT
BEGIN:VEVENT
DTSTART;TZID=America/Chicago:20260406T130000
DTEND;TZID=America/Chicago:20260406T170000
DTSTAMP:20260421T154236
CREATED:20260129T173915Z
LAST-MODIFIED:20260129T173915Z
UID:10001548-1775480400-1775494800@mydpl.org
SUMMARY:FREE Tax Help
DESCRIPTION:Free tax preparation assistance is provided by the R.S.V.P. volunteers in DPL’s Training Center. \n*BY APPOINTMENT ONLY* \nCall 256-232-7207 to make your appointment.
URL:https://mydpl.org/event/free-tax-help/2026-04-06/
LOCATION:DPL Training Center\, 504 Cherry Street NE\, Decatur\, AL
CATEGORIES:Adults
ATTACH;FMTTYPE=image/png:https://mydpl.org/wp-content/uploads/2026/01/Tax-Help-2026-1-e1769708321377.png
END:VEVENT
BEGIN:VEVENT
DTSTART;TZID=America/Chicago:20260408T130000
DTEND;TZID=America/Chicago:20260408T170000
DTSTAMP:20260421T154236
CREATED:20260129T173915Z
LAST-MODIFIED:20260129T173915Z
UID:10001549-1775653200-1775667600@mydpl.org
SUMMARY:FREE Tax Help
DESCRIPTION:Free tax preparation assistance is provided by the R.S.V.P. volunteers in DPL’s Training Center. \n*BY APPOINTMENT ONLY* \nCall 256-232-7207 to make your appointment.
URL:https://mydpl.org/event/free-tax-help/2026-04-08/
LOCATION:DPL Training Center\, 504 Cherry Street NE\, Decatur\, AL
CATEGORIES:Adults
ATTACH;FMTTYPE=image/png:https://mydpl.org/wp-content/uploads/2026/01/Tax-Help-2026-1-e1769708321377.png
END:VEVENT
END:VCALENDAR