BEGIN:VCALENDAR
VERSION:2.0
PRODID:-//Decatur Public Library - ECPv6.15.17.1//NONSGML v1.0//EN
CALSCALE:GREGORIAN
METHOD:PUBLISH
X-WR-CALNAME:Decatur Public Library
X-ORIGINAL-URL:https://mydpl.org
X-WR-CALDESC:Events for Decatur Public Library
REFRESH-INTERVAL;VALUE=DURATION:PT1H
X-Robots-Tag:noindex
X-PUBLISHED-TTL:PT1H
BEGIN:VTIMEZONE
TZID:America/Chicago
BEGIN:DAYLIGHT
TZOFFSETFROM:-0600
TZOFFSETTO:-0500
TZNAME:CDT
DTSTART:20250309T080000
END:DAYLIGHT
BEGIN:STANDARD
TZOFFSETFROM:-0500
TZOFFSETTO:-0600
TZNAME:CST
DTSTART:20251102T070000
END:STANDARD
BEGIN:DAYLIGHT
TZOFFSETFROM:-0600
TZOFFSETTO:-0500
TZNAME:CDT
DTSTART:20260308T080000
END:DAYLIGHT
BEGIN:STANDARD
TZOFFSETFROM:-0500
TZOFFSETTO:-0600
TZNAME:CST
DTSTART:20261101T070000
END:STANDARD
BEGIN:DAYLIGHT
TZOFFSETFROM:-0600
TZOFFSETTO:-0500
TZNAME:CDT
DTSTART:20270314T080000
END:DAYLIGHT
BEGIN:STANDARD
TZOFFSETFROM:-0500
TZOFFSETTO:-0600
TZNAME:CST
DTSTART:20271107T070000
END:STANDARD
END:VTIMEZONE
BEGIN:VEVENT
DTSTART;TZID=America/Chicago:20260321T100000
DTEND;TZID=America/Chicago:20260321T140000
DTSTAMP:20260421T093237
CREATED:20260129T174200Z
LAST-MODIFIED:20260129T174200Z
UID:10001585-1774087200-1774101600@mydpl.org
SUMMARY:FREE Tax Help
DESCRIPTION:Free tax preparation assistance is provided by the R.S.V.P. volunteers in DPL’s Training Center. \n*BY APPOINTMENT ONLY* \nCall 256-232-7207 to make your appointment.
URL:https://mydpl.org/event/free-tax-help-2/2026-03-21/
LOCATION:DPL Training Center\, 504 Cherry Street NE\, Decatur\, AL
CATEGORIES:Adults
ATTACH;FMTTYPE=image/png:https://mydpl.org/wp-content/uploads/2026/01/Tax-Help-2026-1-e1769708321377.png
END:VEVENT
END:VCALENDAR