BEGIN:VCALENDAR
VERSION:2.0
PRODID:-//Decatur Public Library - ECPv6.15.17.1//NONSGML v1.0//EN
CALSCALE:GREGORIAN
METHOD:PUBLISH
X-WR-CALNAME:Decatur Public Library
X-ORIGINAL-URL:https://mydpl.org
X-WR-CALDESC:Events for Decatur Public Library
REFRESH-INTERVAL;VALUE=DURATION:PT1H
X-Robots-Tag:noindex
X-PUBLISHED-TTL:PT1H
BEGIN:VTIMEZONE
TZID:America/Chicago
BEGIN:DAYLIGHT
TZOFFSETFROM:-0600
TZOFFSETTO:-0500
TZNAME:CDT
DTSTART:20240310T080000
END:DAYLIGHT
BEGIN:STANDARD
TZOFFSETFROM:-0500
TZOFFSETTO:-0600
TZNAME:CST
DTSTART:20241103T070000
END:STANDARD
BEGIN:DAYLIGHT
TZOFFSETFROM:-0600
TZOFFSETTO:-0500
TZNAME:CDT
DTSTART:20250309T080000
END:DAYLIGHT
BEGIN:STANDARD
TZOFFSETFROM:-0500
TZOFFSETTO:-0600
TZNAME:CST
DTSTART:20251102T070000
END:STANDARD
BEGIN:DAYLIGHT
TZOFFSETFROM:-0600
TZOFFSETTO:-0500
TZNAME:CDT
DTSTART:20260308T080000
END:DAYLIGHT
BEGIN:STANDARD
TZOFFSETFROM:-0500
TZOFFSETTO:-0600
TZNAME:CST
DTSTART:20261101T070000
END:STANDARD
END:VTIMEZONE
BEGIN:VEVENT
DTSTART;TZID=America/Chicago:20251202T163000
DTEND;TZID=America/Chicago:20251202T183000
DTSTAMP:20260421T141456
CREATED:20251107T192048Z
LAST-MODIFIED:20251107T192048Z
UID:10001453-1764693000-1764700200@mydpl.org
SUMMARY:DPL OUTREACH: Cocoa in MoCo
DESCRIPTION:FREE EVENT\nJoin us for a heartwarming holiday event\, Cocoa in MoCo! \nCelebrate the season with festive activities for all ages\, including:\n– Holiday Cookies & Hot Cocoa to enjoy\n– Ornament Making & Christmas Crafts for the kids\n– Letters to Santa to send off your wish list\n– Photos with Santa ($5 Donation) All donations go to providing Christmas for a Hospitality Front Line Worker in need this Season. \nPlease register to insure we have enough cocoa and crafts for everyone!\nAfter all the fun\, gather ’round as Santa Claus reads the beloved children’s book\, Good Night Decatur\, at 5:30 PM. It’s the perfect way to create lasting holiday memories with your family and spread some Christmas cheer! \nDate: December 2nd\, 2025\nTime: 4:30 – 6:30 PM\nLocation: 350 Market St. Decatur Alabama 35802\nPhotos with Santa: 4:30pm-5:30pm; 5:45pm- 6:30pm\nSanta’s Storytime: 5:30-5:45pm \nRegister: https://docs.google.com/forms/d/e/1FAIpQLScNp6ISWoDl7qReRibWWKRcjGjTdTLcyPeJ4uzzOqhEBBz1vA/viewform?usp=sharing&ouid=104456905706261274631 \n  \n 
URL:https://mydpl.org/event/dpl-outreach-cocoa-in-moco/
LOCATION:Tourism\, 350 Market St.\, Decatur\, Alabama\, 35802
CATEGORIES:Adults,Babies & their caregivers,Children,Family Programming,Tweens & Teens (ages 11-17)
ATTACH;FMTTYPE=image/png:https://mydpl.org/wp-content/uploads/2025/11/OUTREACH-Cocoa-in-MoCo-2DEC.png
END:VEVENT
END:VCALENDAR