BEGIN:VCALENDAR
VERSION:2.0
PRODID:-//Decatur Public Library - ECPv6.15.17.1//NONSGML v1.0//EN
CALSCALE:GREGORIAN
METHOD:PUBLISH
X-WR-CALNAME:Decatur Public Library
X-ORIGINAL-URL:https://mydpl.org
X-WR-CALDESC:Events for Decatur Public Library
REFRESH-INTERVAL;VALUE=DURATION:PT1H
X-Robots-Tag:noindex
X-PUBLISHED-TTL:PT1H
BEGIN:VTIMEZONE
TZID:America/Chicago
BEGIN:DAYLIGHT
TZOFFSETFROM:-0600
TZOFFSETTO:-0500
TZNAME:CDT
DTSTART:20240310T080000
END:DAYLIGHT
BEGIN:STANDARD
TZOFFSETFROM:-0500
TZOFFSETTO:-0600
TZNAME:CST
DTSTART:20241103T070000
END:STANDARD
BEGIN:DAYLIGHT
TZOFFSETFROM:-0600
TZOFFSETTO:-0500
TZNAME:CDT
DTSTART:20250309T080000
END:DAYLIGHT
BEGIN:STANDARD
TZOFFSETFROM:-0500
TZOFFSETTO:-0600
TZNAME:CST
DTSTART:20251102T070000
END:STANDARD
BEGIN:DAYLIGHT
TZOFFSETFROM:-0600
TZOFFSETTO:-0500
TZNAME:CDT
DTSTART:20260308T080000
END:DAYLIGHT
BEGIN:STANDARD
TZOFFSETFROM:-0500
TZOFFSETTO:-0600
TZNAME:CST
DTSTART:20261101T070000
END:STANDARD
END:VTIMEZONE
BEGIN:VEVENT
DTSTART;TZID=America/Chicago:20251021T113000
DTEND;TZID=America/Chicago:20251021T123000
DTSTAMP:20260421T153539
CREATED:20250724T175345Z
LAST-MODIFIED:20250724T180621Z
UID:10001374-1761046200-1761049800@mydpl.org
SUMMARY:Morgan County Property Tax Explained
DESCRIPTION:Morgan County property owners can about their property taxes.  The Alabama Extension will present basic property tax information.  A representative from the Morgan County Revenue Commissioner’s office will be here to clarify and answer questions.  This free program is open to all adults and is made possible by the  Alabama Cooperative Extension System\, Auburn Extension Financial Management & the AAMU Virgina Caples Lifelong Learning Institute.
URL:https://mydpl.org/event/morgan-county-property-tax-explained/
LOCATION:DPL Community Room\, 504 Cherry St.\, NE\, Decatur\, 35601\, United States
CATEGORIES:Adults
ATTACH;FMTTYPE=image/png:https://mydpl.org/wp-content/uploads/2025/07/Property-Tax-Program-21OCT.png
END:VEVENT
BEGIN:VEVENT
DTSTART;TZID=America/Chicago:20251023T163000
DTEND;TZID=America/Chicago:20251023T183000
DTSTAMP:20260421T153539
CREATED:20251001T222350Z
LAST-MODIFIED:20251001T222350Z
UID:10001434-1761237000-1761244200@mydpl.org
SUMMARY:OUTREACH - CAPNA Weatherization Day Trunk or Treat
DESCRIPTION:Community Action Partnership of North Alabama (CAPNA) celebrates  Weatherization Day  with a Trunk or Treat! \nProgram & Agency information – Community Resources – Energy Audits Exhibits – DIY Weatherization Tips – and most importantly….candy!
URL:https://mydpl.org/event/outreach-capna-weatherization-day-trunk-or-treat/
LOCATION:CAPNA\, 1909 Central Parkway SW\, Decatur\, AL\, 35601
CATEGORIES:Adults,Babies & their caregivers,Children,Family Programming,Tweens & Teens (ages 11-17)
ATTACH;FMTTYPE=image/png:https://mydpl.org/wp-content/uploads/2025/10/OUTREACH-CAPNA-Trunk-or-Treat-OCT-2025-1.png
END:VEVENT
BEGIN:VEVENT
DTSTART;TZID=America/Chicago:20251030T170000
DTEND;TZID=America/Chicago:20251030T190000
DTSTAMP:20260421T153539
CREATED:20251001T223324Z
LAST-MODIFIED:20251001T223324Z
UID:10001435-1761843600-1761850800@mydpl.org
SUMMARY:OUTREACH - DFR Special Needs Spooktacular
DESCRIPTION:Decatur Fire & Rescue presents a free event for all special needs people and immediate family (caretakers). \nA night of fun with our Special Needs community.  Free hotdogs\, drinks\, pony rides\, face painting\, candy\, haunted house\, & story time.
URL:https://mydpl.org/event/outreach-dfr-special-needs-spooktacular/
LOCATION:City of Decatur Fire & Police Training Center\, 4119 Old Hwy 31\, Decatur\, AL\, 35603
CATEGORIES:Adults,Babies & their caregivers,Children,Family Programming,Tweens & Teens (ages 11-17)
ATTACH;FMTTYPE=image/png:https://mydpl.org/wp-content/uploads/2025/10/OUTREACH-DFR-Special-Needs-spooktacular-OCT2025-1.png
END:VEVENT
END:VCALENDAR